BEGIN:VCALENDAR
VERSION:2.0
PRODID:-//Buffalo Model Boat Club - ECPv6.15.20//NONSGML v1.0//EN
CALSCALE:GREGORIAN
METHOD:PUBLISH
X-ORIGINAL-URL:https://buffalomodelboatclub.org
X-WR-CALDESC:Events for Buffalo Model Boat Club
REFRESH-INTERVAL;VALUE=DURATION:PT1H
X-Robots-Tag:noindex
X-PUBLISHED-TTL:PT1H
BEGIN:VTIMEZONE
TZID:America/Halifax
BEGIN:DAYLIGHT
TZOFFSETFROM:-0400
TZOFFSETTO:-0300
TZNAME:ADT
DTSTART:20250309T060000
END:DAYLIGHT
BEGIN:STANDARD
TZOFFSETFROM:-0300
TZOFFSETTO:-0400
TZNAME:AST
DTSTART:20251102T050000
END:STANDARD
BEGIN:DAYLIGHT
TZOFFSETFROM:-0400
TZOFFSETTO:-0300
TZNAME:ADT
DTSTART:20260308T060000
END:DAYLIGHT
BEGIN:STANDARD
TZOFFSETFROM:-0300
TZOFFSETTO:-0400
TZNAME:AST
DTSTART:20261101T050000
END:STANDARD
BEGIN:DAYLIGHT
TZOFFSETFROM:-0400
TZOFFSETTO:-0300
TZNAME:ADT
DTSTART:20270314T060000
END:DAYLIGHT
BEGIN:STANDARD
TZOFFSETFROM:-0300
TZOFFSETTO:-0400
TZNAME:AST
DTSTART:20271107T050000
END:STANDARD
END:VTIMEZONE
BEGIN:VEVENT
DTSTART;TZID=America/Halifax:20260802T100000
DTEND;TZID=America/Halifax:20260802T120000
DTSTAMP:20260425T232839
CREATED:20260420T175653Z
LAST-MODIFIED:20260420T175653Z
UID:1855-1785664800-1785672000@buffalomodelboatclub.org
SUMMARY:Footy Regional at Fairmount Park
DESCRIPTION:
URL:https://buffalomodelboatclub.org/event/footy-regional-at-fairmount-park/
LOCATION:Fairmount Park\, 6812 Nash Road\, \, NY\, Wheatfield\, NY\, 14228\, United States
CATEGORIES:Regattas
ORGANIZER;CN="Buffalo Model Boat Club":MAILTO:buffalomodelboatclub@gmail.com
END:VEVENT
BEGIN:VEVENT
DTSTART;TZID=America/Halifax:20260816T090000
DTEND;TZID=America/Halifax:20260816T120000
DTSTAMP:20260425T232839
CREATED:20230226T213315Z
LAST-MODIFIED:20260419T161216Z
UID:812-1786870800-1786881600@buffalomodelboatclub.org
SUMMARY:Scale High Point
DESCRIPTION:Two Predicted Log and two Precision Steering runs will be held. Spectators welcomed \nCOURSE DIAGRAMS
URL:https://buffalomodelboatclub.org/event/scale-high-point-2/
LOCATION:Muir Lake\, Pinchot Ct.\, Williamsville\, NY\, 14221\, United States
CATEGORIES:Regattas
ORGANIZER;CN="Buffalo Model Boat Club":MAILTO:buffalomodelboatclub@gmail.com
END:VEVENT
BEGIN:VEVENT
DTSTART;TZID=America/Halifax:20260823T100000
DTEND;TZID=America/Halifax:20260823T120000
DTSTAMP:20260425T232839
CREATED:20260420T180143Z
LAST-MODIFIED:20260420T180143Z
UID:1858-1787479200-1787486400@buffalomodelboatclub.org
SUMMARY:1M Soling Fleet Racing
DESCRIPTION:
URL:https://buffalomodelboatclub.org/event/1m-soling-fleet-racing/
LOCATION:Muir Lake\, Pinchot Ct.\, Williamsville\, NY\, 14221\, United States
CATEGORIES:Regattas
ORGANIZER;CN="Buffalo Model Boat Club":MAILTO:buffalomodelboatclub@gmail.com
END:VEVENT
BEGIN:VEVENT
DTSTART;TZID=America/Halifax:20260825T173000
DTEND;TZID=America/Halifax:20260825T200000
DTSTAMP:20260425T232839
CREATED:20260419T155353Z
LAST-MODIFIED:20260419T155353Z
UID:1820-1787679000-1787688000@buffalomodelboatclub.org
SUMMARY:Blackjack 24 Races
DESCRIPTION:Warmup 5:30 pm   Races 6:00 pm
URL:https://buffalomodelboatclub.org/event/blackjack-24-races-5/
LOCATION:Muir Lake\, Pinchot Ct.\, Williamsville\, NY\, 14221\, United States
CATEGORIES:Regattas
ORGANIZER;CN="Buffalo Model Boat Club":MAILTO:buffalomodelboatclub@gmail.com
END:VEVENT
END:VCALENDAR