BEGIN:VCALENDAR
VERSION:2.0
PRODID:-//Buffalo Model Boat Club - ECPv6.15.20//NONSGML v1.0//EN
CALSCALE:GREGORIAN
METHOD:PUBLISH
X-WR-CALNAME:Buffalo Model Boat Club
X-ORIGINAL-URL:https://buffalomodelboatclub.org
X-WR-CALDESC:Events for Buffalo Model Boat Club
REFRESH-INTERVAL;VALUE=DURATION:PT1H
X-Robots-Tag:noindex
X-PUBLISHED-TTL:PT1H
BEGIN:VTIMEZONE
TZID:America/Halifax
BEGIN:DAYLIGHT
TZOFFSETFROM:-0400
TZOFFSETTO:-0300
TZNAME:ADT
DTSTART:20240310T060000
END:DAYLIGHT
BEGIN:STANDARD
TZOFFSETFROM:-0300
TZOFFSETTO:-0400
TZNAME:AST
DTSTART:20241103T050000
END:STANDARD
BEGIN:DAYLIGHT
TZOFFSETFROM:-0400
TZOFFSETTO:-0300
TZNAME:ADT
DTSTART:20250309T060000
END:DAYLIGHT
BEGIN:STANDARD
TZOFFSETFROM:-0300
TZOFFSETTO:-0400
TZNAME:AST
DTSTART:20251102T050000
END:STANDARD
BEGIN:DAYLIGHT
TZOFFSETFROM:-0400
TZOFFSETTO:-0300
TZNAME:ADT
DTSTART:20260308T060000
END:DAYLIGHT
BEGIN:STANDARD
TZOFFSETFROM:-0300
TZOFFSETTO:-0400
TZNAME:AST
DTSTART:20261101T050000
END:STANDARD
END:VTIMEZONE
BEGIN:VEVENT
DTSTART;TZID=America/Halifax:20251206T190000
DTEND;TZID=America/Halifax:20251206T210000
DTSTAMP:20260425T233249
CREATED:20231218T022819Z
LAST-MODIFIED:20251116T210156Z
UID:1246-1765047600-1765054800@buffalomodelboatclub.org
SUMMARY:BMBC Monthly Meeting
DESCRIPTION:
URL:https://buffalomodelboatclub.org/event/bmbc-monthly-meeting-18/
LOCATION:Prince of Peace Church Hall\, 2311 George Urban Blvd.\, Cheektowaga\, NY\, United States
CATEGORIES:Meeting
ORGANIZER;CN="Buffalo Model Boat Club":MAILTO:buffalomodelboatclub@gmail.com
END:VEVENT
END:VCALENDAR