BEGIN:VCALENDAR
VERSION:2.0
PRODID:-//Buffalo Model Boat Club - ECPv6.15.20//NONSGML v1.0//EN
CALSCALE:GREGORIAN
METHOD:PUBLISH
X-WR-CALNAME:Buffalo Model Boat Club
X-ORIGINAL-URL:https://buffalomodelboatclub.org
X-WR-CALDESC:Events for Buffalo Model Boat Club
REFRESH-INTERVAL;VALUE=DURATION:PT1H
X-Robots-Tag:noindex
X-PUBLISHED-TTL:PT1H
BEGIN:VTIMEZONE
TZID:America/Halifax
BEGIN:DAYLIGHT
TZOFFSETFROM:-0400
TZOFFSETTO:-0300
TZNAME:ADT
DTSTART:20240310T060000
END:DAYLIGHT
BEGIN:STANDARD
TZOFFSETFROM:-0300
TZOFFSETTO:-0400
TZNAME:AST
DTSTART:20241103T050000
END:STANDARD
BEGIN:DAYLIGHT
TZOFFSETFROM:-0400
TZOFFSETTO:-0300
TZNAME:ADT
DTSTART:20250309T060000
END:DAYLIGHT
BEGIN:STANDARD
TZOFFSETFROM:-0300
TZOFFSETTO:-0400
TZNAME:AST
DTSTART:20251102T050000
END:STANDARD
BEGIN:DAYLIGHT
TZOFFSETFROM:-0400
TZOFFSETTO:-0300
TZNAME:ADT
DTSTART:20260308T060000
END:DAYLIGHT
BEGIN:STANDARD
TZOFFSETFROM:-0300
TZOFFSETTO:-0400
TZNAME:AST
DTSTART:20261101T050000
END:STANDARD
END:VTIMEZONE
BEGIN:VTIMEZONE
TZID:America/New_York
BEGIN:DAYLIGHT
TZOFFSETFROM:-0500
TZOFFSETTO:-0400
TZNAME:EDT
DTSTART:20240310T070000
END:DAYLIGHT
BEGIN:STANDARD
TZOFFSETFROM:-0400
TZOFFSETTO:-0500
TZNAME:EST
DTSTART:20241103T060000
END:STANDARD
BEGIN:DAYLIGHT
TZOFFSETFROM:-0500
TZOFFSETTO:-0400
TZNAME:EDT
DTSTART:20250309T070000
END:DAYLIGHT
BEGIN:STANDARD
TZOFFSETFROM:-0400
TZOFFSETTO:-0500
TZNAME:EST
DTSTART:20251102T060000
END:STANDARD
BEGIN:DAYLIGHT
TZOFFSETFROM:-0500
TZOFFSETTO:-0400
TZNAME:EDT
DTSTART:20260308T070000
END:DAYLIGHT
BEGIN:STANDARD
TZOFFSETFROM:-0400
TZOFFSETTO:-0500
TZNAME:EST
DTSTART:20261101T060000
END:STANDARD
END:VTIMEZONE
BEGIN:VEVENT
DTSTART;TZID=America/Halifax:20250904T180000
DTEND;TZID=America/Halifax:20250904T200000
DTSTAMP:20260426T011519
CREATED:20240408T142306Z
LAST-MODIFIED:20250607T015633Z
UID:1446-1757008800-1757016000@buffalomodelboatclub.org
SUMMARY:Thursday Nights - Soling\,  1 Meter Fleet Racing
DESCRIPTION:No entry fee. Spectators and guests are welcome. Participating skippers must be BMBC members. Other sailboats are also welcome but will not be scored
URL:https://buffalomodelboatclub.org/event/thursday-nights-soling-1-meter-fleet-racing-17/
LOCATION:Muir Lake\, Pinchot Ct.\, Williamsville\, NY\, 14221\, United States
CATEGORIES:Regattas
ORGANIZER;CN="Buffalo Model Boat Club":MAILTO:buffalomodelboatclub@gmail.com
END:VEVENT
BEGIN:VEVENT
DTSTART;TZID=America/Halifax:20250903T180000
DTEND;TZID=America/Halifax:20250903T210000
DTSTAMP:20260426T011519
CREATED:20240603T014204Z
LAST-MODIFIED:20250607T015404Z
UID:1494-1756922400-1756933200@buffalomodelboatclub.org
SUMMARY:Wednesday Nights – Scale Fleet “Tune Up”
DESCRIPTION:
URL:https://buffalomodelboatclub.org/event/wednesday-nights-scale-fleet-tune-up-14/
LOCATION:Muir Lake\, Pinchot Ct.\, Williamsville\, NY\, 14221\, United States
CATEGORIES:Regattas
ORGANIZER;CN="Buffalo Model Boat Club":MAILTO:buffalomodelboatclub@gmail.com
END:VEVENT
BEGIN:VEVENT
DTSTART;TZID=America/Halifax:20250902T173000
DTEND;TZID=America/Halifax:20250902T203000
DTSTAMP:20260426T011519
CREATED:20240603T015321Z
LAST-MODIFIED:20250607T015149Z
UID:1506-1756834200-1756845000@buffalomodelboatclub.org
SUMMARY:Tuesday Nights – Fast Electric Fleet
DESCRIPTION:
URL:https://buffalomodelboatclub.org/event/tuesday-nights-fast-electric-fleet-34/
LOCATION:Muir Lake\, Pinchot Ct.\, Williamsville\, NY\, 14221\, United States
CATEGORIES:Regattas
ORGANIZER;CN="Buffalo Model Boat Club":MAILTO:buffalomodelboatclub@gmail.com
END:VEVENT
BEGIN:VEVENT
DTSTART;TZID=America/Halifax:20250901T180000
DTEND;TZID=America/Halifax:20250901T210000
DTSTAMP:20260426T011519
CREATED:20240405T181440Z
LAST-MODIFIED:20250607T014659Z
UID:1403-1756749600-1756760400@buffalomodelboatclub.org
SUMMARY:Monday Nights - DF 95 Sail Fleet Racing
DESCRIPTION:No entry fee. Spectators and guests are welcome. Participating skippers must be BMBC members. Other sailboats are also welcome but will not be scored
URL:https://buffalomodelboatclub.org/event/monday-nights-df-95-sail-fleet-racing-15/
LOCATION:Muir Lake\, Pinchot Ct.\, Williamsville\, NY\, 14221\, United States
CATEGORIES:Regattas
ORGANIZER;CN="Buffalo Model Boat Club":MAILTO:buffalomodelboatclub@gmail.com
END:VEVENT
BEGIN:VEVENT
DTSTART;TZID=America/Halifax:20250828T180000
DTEND;TZID=America/Halifax:20250828T210000
DTSTAMP:20260426T011519
CREATED:20240408T141914Z
LAST-MODIFIED:20250607T014256Z
UID:1442-1756404000-1756414800@buffalomodelboatclub.org
SUMMARY:Thursday Nights - Soling\,  1 Meter Fleet Racing
DESCRIPTION:No entry fee. Spectators and guests are welcome. Participating skippers must be BMBC members. Other sailboats are also welcome but will not be scored
URL:https://buffalomodelboatclub.org/event/thursday-nights-soling-1-meter-fleet-racing-15/
LOCATION:Muir Lake\, Pinchot Ct.\, Williamsville\, NY\, 14221\, United States
CATEGORIES:Regattas
ORGANIZER;CN="Buffalo Model Boat Club":MAILTO:buffalomodelboatclub@gmail.com
END:VEVENT
BEGIN:VEVENT
DTSTART;TZID=America/Halifax:20250827T180000
DTEND;TZID=America/Halifax:20250827T210000
DTSTAMP:20260426T011519
CREATED:20240603T013935Z
LAST-MODIFIED:20250607T014508Z
UID:1492-1756317600-1756328400@buffalomodelboatclub.org
SUMMARY:Wednesday Nights – Scale Fleet “Tune Up”
DESCRIPTION:
URL:https://buffalomodelboatclub.org/event/wednesday-nights-scale-fleet-tune-up-13/
LOCATION:Muir Lake\, Pinchot Ct.\, Williamsville\, NY\, 14221\, United States
CATEGORIES:Regattas
ORGANIZER;CN="Buffalo Model Boat Club":MAILTO:buffalomodelboatclub@gmail.com
END:VEVENT
BEGIN:VEVENT
DTSTART;TZID=America/Halifax:20250826T173000
DTEND;TZID=America/Halifax:20250826T203000
DTSTAMP:20260426T011519
CREATED:20240603T014922Z
LAST-MODIFIED:20250607T013757Z
UID:1502-1756229400-1756240200@buffalomodelboatclub.org
SUMMARY:Tuesday Nights – Fast Electric Fleet
DESCRIPTION:
URL:https://buffalomodelboatclub.org/event/tuesday-nights-fast-electric-fleet-32/
LOCATION:Muir Lake\, Pinchot Ct.\, Williamsville\, NY\, 14221\, United States
CATEGORIES:Regattas
ORGANIZER;CN="Buffalo Model Boat Club":MAILTO:buffalomodelboatclub@gmail.com
END:VEVENT
BEGIN:VEVENT
DTSTART;TZID=America/Halifax:20250825T180000
DTEND;TZID=America/Halifax:20250825T210000
DTSTAMP:20260426T011519
CREATED:20240405T181047Z
LAST-MODIFIED:20250607T013600Z
UID:1399-1756144800-1756155600@buffalomodelboatclub.org
SUMMARY:Monday Nights - DF 95 Sail Fleet Racing
DESCRIPTION:No entry fee. Spectators and guests are welcome. Participating skippers must be BMBC members. Other sailboats are also welcome but will not be scored
URL:https://buffalomodelboatclub.org/event/monday-nights-df-95-sail-fleet-racing-13/
LOCATION:Muir Lake\, Pinchot Ct.\, Williamsville\, NY\, 14221\, United States
CATEGORIES:Regattas
ORGANIZER;CN="Buffalo Model Boat Club":MAILTO:buffalomodelboatclub@gmail.com
END:VEVENT
BEGIN:VEVENT
DTSTART;TZID=America/Halifax:20250824T100000
DTEND;TZID=America/Halifax:20250824T120000
DTSTAMP:20260426T011519
CREATED:20250304T202116Z
LAST-MODIFIED:20250305T175511Z
UID:1635-1756029600-1756036800@buffalomodelboatclub.org
SUMMARY:Soling Fleet Racing
DESCRIPTION:Racing Rules – Muir Lake
URL:https://buffalomodelboatclub.org/event/soling-fleet-racing/
LOCATION:Muir Lake\, Pinchot Ct.\, Williamsville\, NY\, 14221\, United States
CATEGORIES:Regattas
ORGANIZER;CN="Buffalo Model Boat Club":MAILTO:buffalomodelboatclub@gmail.com
END:VEVENT
BEGIN:VEVENT
DTSTART;TZID=America/Halifax:20250821T180000
DTEND;TZID=America/Halifax:20250821T210000
DTSTAMP:20260426T011519
CREATED:20240408T141519Z
LAST-MODIFIED:20250607T013310Z
UID:1438-1755799200-1755810000@buffalomodelboatclub.org
SUMMARY:Thursday Nights - Soling\,  1 Meter Fleet Racing
DESCRIPTION:No entry fee. Spectators and guests are welcome. Participating skippers must be BMBC members. Other sailboats are also welcome but will not be scored
URL:https://buffalomodelboatclub.org/event/thursday-nights-soling-1-meter-fleet-racing-13/
LOCATION:Muir Lake\, Pinchot Ct.\, Williamsville\, NY\, 14221\, United States
CATEGORIES:Regattas
ORGANIZER;CN="Buffalo Model Boat Club":MAILTO:buffalomodelboatclub@gmail.com
END:VEVENT
BEGIN:VEVENT
DTSTART;TZID=America/Halifax:20250820T180000
DTEND;TZID=America/Halifax:20250820T210000
DTSTAMP:20260426T011519
CREATED:20240603T013722Z
LAST-MODIFIED:20250607T013149Z
UID:1488-1755712800-1755723600@buffalomodelboatclub.org
SUMMARY:Wednesday Nights – Scale Fleet “Tune Up”
DESCRIPTION:
URL:https://buffalomodelboatclub.org/event/wednesday-nights-scale-fleet-tune-up-12/
LOCATION:Muir Lake\, Pinchot Ct.\, Williamsville\, NY\, 14221\, United States
CATEGORIES:Regattas
ORGANIZER;CN="Buffalo Model Boat Club":MAILTO:buffalomodelboatclub@gmail.com
END:VEVENT
BEGIN:VEVENT
DTSTART;TZID=America/Halifax:20250819T173000
DTEND;TZID=America/Halifax:20250819T203000
DTSTAMP:20260426T011519
CREATED:20240603T014759Z
LAST-MODIFIED:20250607T012922Z
UID:1500-1755624600-1755635400@buffalomodelboatclub.org
SUMMARY:Tuesday Nights – Fast Electric Fleet
DESCRIPTION:
URL:https://buffalomodelboatclub.org/event/tuesday-nights-fast-electric-fleet-31/
LOCATION:Muir Lake\, Pinchot Ct.\, Williamsville\, NY\, 14221\, United States
CATEGORIES:Regattas
ORGANIZER;CN="Buffalo Model Boat Club":MAILTO:buffalomodelboatclub@gmail.com
END:VEVENT
BEGIN:VEVENT
DTSTART;TZID=America/Halifax:20250818T180000
DTEND;TZID=America/Halifax:20250818T210000
DTSTAMP:20260426T011519
CREATED:20240405T180710Z
LAST-MODIFIED:20250607T012649Z
UID:1395-1755540000-1755550800@buffalomodelboatclub.org
SUMMARY:Monday Nights - DF 95 Sail Fleet Racing
DESCRIPTION:No entry fee. Spectators and guests are welcome. Participating skippers must be BMBC members. Other sailboats are also welcome but will not be scored
URL:https://buffalomodelboatclub.org/event/monday-nights-df-95-sail-fleet-racing-11/
LOCATION:Muir Lake\, Pinchot Ct.\, Williamsville\, NY\, 14221\, United States
CATEGORIES:Regattas
ORGANIZER;CN="Buffalo Model Boat Club":MAILTO:buffalomodelboatclub@gmail.com
END:VEVENT
BEGIN:VEVENT
DTSTART;TZID=America/Halifax:20250814T180000
DTEND;TZID=America/Halifax:20250814T210000
DTSTAMP:20260426T011519
CREATED:20240408T141324Z
LAST-MODIFIED:20250607T012452Z
UID:1436-1755194400-1755205200@buffalomodelboatclub.org
SUMMARY:Thursday Nights - Soling\,  1 Meter Fleet Racing
DESCRIPTION:No entry fee. Spectators and guests are welcome. Participating skippers must be BMBC members. Other sailboats are also welcome but will not be scored
URL:https://buffalomodelboatclub.org/event/thursday-nights-soling-1-meter-fleet-racing-12/
LOCATION:Muir Lake\, Pinchot Ct.\, Williamsville\, NY\, 14221\, United States
CATEGORIES:Regattas
ORGANIZER;CN="Buffalo Model Boat Club":MAILTO:buffalomodelboatclub@gmail.com
END:VEVENT
BEGIN:VEVENT
DTSTART;TZID=America/Halifax:20250813T053000
DTEND;TZID=America/Halifax:20250813T203000
DTSTAMP:20260426T011519
CREATED:20240603T013609Z
LAST-MODIFIED:20250607T012243Z
UID:1486-1755063000-1755117000@buffalomodelboatclub.org
SUMMARY:Wednesday Nights – Scale Fleet “Tune Up”
DESCRIPTION:
URL:https://buffalomodelboatclub.org/event/wednesday-nights-scale-fleet-tune-up-11/
LOCATION:Muir Lake\, Pinchot Ct.\, Williamsville\, NY\, 14221\, United States
CATEGORIES:Regattas
ORGANIZER;CN="Buffalo Model Boat Club":MAILTO:buffalomodelboatclub@gmail.com
END:VEVENT
BEGIN:VEVENT
DTSTART;TZID=America/Halifax:20250812T173000
DTEND;TZID=America/Halifax:20250812T203000
DTSTAMP:20260426T011519
CREATED:20240603T014653Z
LAST-MODIFIED:20250607T011852Z
UID:1498-1755019800-1755030600@buffalomodelboatclub.org
SUMMARY:Tuesday Nights – Fast Electric Fleet
DESCRIPTION:
URL:https://buffalomodelboatclub.org/event/tuesday-nights-fast-electric-fleet-30/
LOCATION:Muir Lake\, Pinchot Ct.\, Williamsville\, NY\, 14221\, United States
CATEGORIES:Regattas
ORGANIZER;CN="Buffalo Model Boat Club":MAILTO:buffalomodelboatclub@gmail.com
END:VEVENT
BEGIN:VEVENT
DTSTART;TZID=America/Halifax:20250811T180000
DTEND;TZID=America/Halifax:20250811T210000
DTSTAMP:20260426T011519
CREATED:20240405T180908Z
LAST-MODIFIED:20250607T010652Z
UID:1397-1754935200-1754946000@buffalomodelboatclub.org
SUMMARY:Monday Nights - DF 95 Sail Fleet Racing
DESCRIPTION:No entry fee. Spectators and guests are welcome. Participating skippers must be BMBC members. Other sailboats are also welcome but will not be scored
URL:https://buffalomodelboatclub.org/event/monday-nights-df-95-sail-fleet-racing-12/
LOCATION:Muir Lake\, Pinchot Ct.\, Williamsville\, NY\, 14221\, United States
CATEGORIES:Regattas
ORGANIZER;CN="Buffalo Model Boat Club":MAILTO:buffalomodelboatclub@gmail.com
END:VEVENT
BEGIN:VEVENT
DTSTART;TZID=America/New_York:20250807T180000
DTEND;TZID=America/New_York:20250807T210000
DTSTAMP:20260426T011519
CREATED:20240405T185324Z
LAST-MODIFIED:20250607T011525Z
UID:1422-1754589600-1754600400@buffalomodelboatclub.org
SUMMARY:Thursday Nights - Soling\,  1 Meter Fleet Racing
DESCRIPTION:No entry fee. Spectators and guests are welcome. Participating skippers must be BMBC members. Other sailboats are also welcome but will not be scored
URL:https://buffalomodelboatclub.org/event/thursday-nights-soling-1-meter-fleet-racing-10/
LOCATION:Muir Lake\, Pinchot Ct.\, Williamsville\, NY\, 14221\, United States
CATEGORIES:Regattas
ORGANIZER;CN="Buffalo Model Boat Club":MAILTO:buffalomodelboatclub@gmail.com
END:VEVENT
BEGIN:VEVENT
DTSTART;TZID=America/Halifax:20250806T180000
DTEND;TZID=America/Halifax:20250806T210000
DTSTAMP:20260426T011519
CREATED:20240603T013402Z
LAST-MODIFIED:20250607T010420Z
UID:1481-1754503200-1754514000@buffalomodelboatclub.org
SUMMARY:Wednesday Nights – Scale Fleet “Tune Up”
DESCRIPTION:
URL:https://buffalomodelboatclub.org/event/wednesday-nights-scale-fleet-tune-up-10/
LOCATION:Muir Lake\, Pinchot Ct.\, Williamsville\, NY\, 14221\, United States
CATEGORIES:Regattas
ORGANIZER;CN="Buffalo Model Boat Club":MAILTO:buffalomodelboatclub@gmail.com
END:VEVENT
BEGIN:VEVENT
DTSTART;TZID=America/Halifax:20250805T173000
DTEND;TZID=America/Halifax:20250805T203000
DTSTAMP:20260426T011519
CREATED:20240603T015110Z
LAST-MODIFIED:20250607T010141Z
UID:1504-1754415000-1754425800@buffalomodelboatclub.org
SUMMARY:Tuesday Nights – Fast Electric Fleet
DESCRIPTION:
URL:https://buffalomodelboatclub.org/event/tuesday-nights-fast-electric-fleet-33/
LOCATION:Muir Lake\, Pinchot Ct.\, Williamsville\, NY\, 14221\, United States
CATEGORIES:Regattas
ORGANIZER;CN="Buffalo Model Boat Club":MAILTO:buffalomodelboatclub@gmail.com
END:VEVENT
BEGIN:VEVENT
DTSTART;TZID=America/Halifax:20250804T180000
DTEND;TZID=America/Halifax:20250804T210000
DTSTAMP:20260426T011519
CREATED:20240405T180452Z
LAST-MODIFIED:20250607T005818Z
UID:1392-1754330400-1754341200@buffalomodelboatclub.org
SUMMARY:Monday Nights - DF 95 Sail Fleet Racing
DESCRIPTION:No entry fee. Spectators and guests are welcome. Participating skippers must be BMBC members. Other sailboats are also welcome but will not be scored
URL:https://buffalomodelboatclub.org/event/monday-nights-df-95-sail-fleet-racing-10/
LOCATION:Muir Lake\, Pinchot Ct.\, Williamsville\, NY\, 14221\, United States
CATEGORIES:Regattas
ORGANIZER;CN="Buffalo Model Boat Club":MAILTO:buffalomodelboatclub@gmail.com
END:VEVENT
BEGIN:VEVENT
DTSTART;TZID=America/Halifax:20250803T100000
DTEND;TZID=America/Halifax:20250803T120000
DTSTAMP:20260426T011519
CREATED:20250304T201421Z
LAST-MODIFIED:20250304T201421Z
UID:1632-1754215200-1754222400@buffalomodelboatclub.org
SUMMARY:Footy Class Regional
DESCRIPTION:Racing Rules -Fairmont Pond
URL:https://buffalomodelboatclub.org/event/footy-class-regional/
LOCATION:Fairmount Park\, 6812 Nash Road\, \, NY\, Wheatfield\, NY\, 14228\, United States
CATEGORIES:Regattas
ORGANIZER;CN="Buffalo Model Boat Club":MAILTO:buffalomodelboatclub@gmail.com
END:VEVENT
BEGIN:VEVENT
DTSTART;TZID=America/Halifax:20250802T183000
DTEND;TZID=America/Halifax:20250802T210000
DTSTAMP:20260426T011519
CREATED:20250102T173052Z
LAST-MODIFIED:20250102T173944Z
UID:1577-1754159400-1754168400@buffalomodelboatclub.org
SUMMARY:BMBC Monthly Meeting
DESCRIPTION:Alternate meeting location and time in case of inclement weather:\nPrince of Peace Church\, 7:00 pm
URL:https://buffalomodelboatclub.org/event/bmbc-monthly-meeting-19/
LOCATION:Muir Lake\, Pinchot Ct.\, Williamsville\, NY\, 14221\, United States
CATEGORIES:Meeting
ORGANIZER;CN="Buffalo Model Boat Club":MAILTO:buffalomodelboatclub@gmail.com
END:VEVENT
BEGIN:VEVENT
DTSTART;TZID=America/Halifax:20250730T180000
DTEND;TZID=America/Halifax:20250730T210000
DTSTAMP:20260426T011519
CREATED:20240603T012959Z
LAST-MODIFIED:20250607T005000Z
UID:1477-1753898400-1753909200@buffalomodelboatclub.org
SUMMARY:Wednesday Nights – Scale Fleet “Tune Up”
DESCRIPTION:
URL:https://buffalomodelboatclub.org/event/wednesday-nights-scale-fleet-tune-up-8/
LOCATION:Muir Lake\, Pinchot Ct.\, Williamsville\, NY\, 14221\, United States
CATEGORIES:Regattas
ORGANIZER;CN="Buffalo Model Boat Club":MAILTO:buffalomodelboatclub@gmail.com
END:VEVENT
BEGIN:VEVENT
DTSTART;TZID=America/Halifax:20250729T173000
DTEND;TZID=America/Halifax:20250729T203000
DTSTAMP:20260426T011519
CREATED:20230517T142509Z
LAST-MODIFIED:20250607T004752Z
UID:1105-1753810200-1753821000@buffalomodelboatclub.org
SUMMARY:Tuesday  Nights – Fast Electric Fleet
DESCRIPTION:On Tuesday evenings\, the Fast Electric fleet members gather at Muir Lake for informal running\, testing of new or modified boats\, sharing of useful information and general fellowship. The camaraderie and assistance of fellow modelers can help solve problems encountered in the model building process and operation of the model boats. New sailors and spectators welcomed.
URL:https://buffalomodelboatclub.org/event/tuesday-nights-fast-electric-fleet-25/
LOCATION:Muir Lake\, Pinchot Ct.\, Williamsville\, NY\, 14221\, United States
CATEGORIES:Regattas
ORGANIZER;CN="Buffalo Model Boat Club":MAILTO:buffalomodelboatclub@gmail.com
END:VEVENT
BEGIN:VEVENT
DTSTART;TZID=America/Halifax:20250728T180000
DTEND;TZID=America/Halifax:20250728T210000
DTSTAMP:20260426T011519
CREATED:20240405T170743Z
LAST-MODIFIED:20250607T004427Z
UID:1389-1753725600-1753736400@buffalomodelboatclub.org
SUMMARY:Monday Nights - DF 95 Sail Fleet Racing
DESCRIPTION:No entry fee. Spectators and guests are welcome. Participating skippers must be BMBC members. Other sailboats are also welcome but will not be scored
URL:https://buffalomodelboatclub.org/event/monday-nights-df-95-sail-fleet-racing-9/
LOCATION:Muir Lake\, Pinchot Ct.\, Williamsville\, NY\, 14221\, United States
CATEGORIES:Regattas
ORGANIZER;CN="Buffalo Model Boat Club":MAILTO:buffalomodelboatclub@gmail.com
END:VEVENT
BEGIN:VEVENT
DTSTART;TZID=America/Halifax:20250727T100000
DTEND;TZID=America/Halifax:20250727T120000
DTSTAMP:20260426T011519
CREATED:20250304T201139Z
LAST-MODIFIED:20250304T201139Z
UID:1629-1753610400-1753617600@buffalomodelboatclub.org
SUMMARY:All Sail
DESCRIPTION:**ALL SAIL EVENT \nAll vessels will start at the same time and will have 1 lap. Footy’s and DF65’s will have a ½ lap start. All other vessels will start at the same time. Individual classes will be scored. The event will last as long at the participants wish.
URL:https://buffalomodelboatclub.org/event/all-sail/
LOCATION:Muir Lake\, Pinchot Ct.\, Williamsville\, NY\, 14221\, United States
CATEGORIES:Regattas
ORGANIZER;CN="Buffalo Model Boat Club":MAILTO:buffalomodelboatclub@gmail.com
END:VEVENT
BEGIN:VEVENT
DTSTART;TZID=America/Halifax:20250726T090000
DTEND;TZID=America/Halifax:20250726T090000
DTSTAMP:20260426T011519
CREATED:20230424T015325Z
LAST-MODIFIED:20250513T193751Z
UID:1047-1753520400-1753520400@buffalomodelboatclub.org
SUMMARY:Skaneateles Antique & Classic Boat Show
DESCRIPTION:
URL:https://buffalomodelboatclub.org/event/skaneateles-antique-classic-boat-show-4/
LOCATION:Clift Park\, Skaneateles NY\, Clift Park\, Skaneateles\, NY\, United States
CATEGORIES:Regattas
END:VEVENT
BEGIN:VEVENT
DTSTART;TZID=America/New_York:20250724T180000
DTEND;TZID=America/New_York:20250724T210000
DTSTAMP:20260426T011519
CREATED:20240405T185604Z
LAST-MODIFIED:20250607T004205Z
UID:1426-1753380000-1753390800@buffalomodelboatclub.org
SUMMARY:Thursday Nights - Soling\,  1 Meter Fleet Racing
DESCRIPTION:No entry fee. Spectators and guests are welcome. Participating skippers must be BMBC members. Other sailboats are also welcome but will not be scored
URL:https://buffalomodelboatclub.org/event/thursday-nights-soling-1-meter-fleet-racing-11/
LOCATION:Muir Lake\, Pinchot Ct.\, Williamsville\, NY\, 14221\, United States
CATEGORIES:Regattas
ORGANIZER;CN="Buffalo Model Boat Club":MAILTO:buffalomodelboatclub@gmail.com
END:VEVENT
BEGIN:VEVENT
DTSTART;TZID=America/Halifax:20250723T180000
DTEND;TZID=America/Halifax:20250723T210000
DTSTAMP:20260426T011519
CREATED:20240603T013222Z
LAST-MODIFIED:20250607T004053Z
UID:1479-1753293600-1753304400@buffalomodelboatclub.org
SUMMARY:Wednesday Nights – Scale Fleet “Tune Up”
DESCRIPTION:
URL:https://buffalomodelboatclub.org/event/wednesday-nights-scale-fleet-tune-up-9/
LOCATION:Muir Lake\, Pinchot Ct.\, Williamsville\, NY\, 14221\, United States
CATEGORIES:Regattas
ORGANIZER;CN="Buffalo Model Boat Club":MAILTO:buffalomodelboatclub@gmail.com
END:VEVENT
END:VCALENDAR