BEGIN:VCALENDAR
VERSION:2.0
PRODID:-//Buffalo Model Boat Club - ECPv6.15.20//NONSGML v1.0//EN
CALSCALE:GREGORIAN
METHOD:PUBLISH
X-WR-CALNAME:Buffalo Model Boat Club
X-ORIGINAL-URL:https://buffalomodelboatclub.org
X-WR-CALDESC:Events for Buffalo Model Boat Club
REFRESH-INTERVAL;VALUE=DURATION:PT1H
X-Robots-Tag:noindex
X-PUBLISHED-TTL:PT1H
BEGIN:VTIMEZONE
TZID:America/Halifax
BEGIN:DAYLIGHT
TZOFFSETFROM:-0400
TZOFFSETTO:-0300
TZNAME:ADT
DTSTART:20240310T060000
END:DAYLIGHT
BEGIN:STANDARD
TZOFFSETFROM:-0300
TZOFFSETTO:-0400
TZNAME:AST
DTSTART:20241103T050000
END:STANDARD
BEGIN:DAYLIGHT
TZOFFSETFROM:-0400
TZOFFSETTO:-0300
TZNAME:ADT
DTSTART:20250309T060000
END:DAYLIGHT
BEGIN:STANDARD
TZOFFSETFROM:-0300
TZOFFSETTO:-0400
TZNAME:AST
DTSTART:20251102T050000
END:STANDARD
BEGIN:DAYLIGHT
TZOFFSETFROM:-0400
TZOFFSETTO:-0300
TZNAME:ADT
DTSTART:20260308T060000
END:DAYLIGHT
BEGIN:STANDARD
TZOFFSETFROM:-0300
TZOFFSETTO:-0400
TZNAME:AST
DTSTART:20261101T050000
END:STANDARD
BEGIN:DAYLIGHT
TZOFFSETFROM:-0400
TZOFFSETTO:-0300
TZNAME:ADT
DTSTART:20270314T060000
END:DAYLIGHT
BEGIN:STANDARD
TZOFFSETFROM:-0300
TZOFFSETTO:-0400
TZNAME:AST
DTSTART:20271107T050000
END:STANDARD
END:VTIMEZONE
BEGIN:VEVENT
DTSTART;TZID=America/Halifax:20260726T100000
DTEND;TZID=America/Halifax:20260726T120000
DTSTAMP:20260426T021413
CREATED:20260419T190633Z
LAST-MODIFIED:20260419T190633Z
UID:1832-1785060000-1785067200@buffalomodelboatclub.org
SUMMARY:All Sail Regatta
DESCRIPTION:All Sail
URL:https://buffalomodelboatclub.org/event/all-sail-regatta/
LOCATION:Muir Lake\, Pinchot Ct.\, Williamsville\, NY\, 14221\, United States
CATEGORIES:Regattas
ORGANIZER;CN="Buffalo Model Boat Club":MAILTO:buffalomodelboatclub@gmail.com
END:VEVENT
BEGIN:VEVENT
DTSTART;TZID=America/Halifax:20260719T100000
DTEND;TZID=America/Halifax:20260719T120000
DTSTAMP:20260426T021413
CREATED:20250603T020503Z
LAST-MODIFIED:20260419T161538Z
UID:1673-1784455200-1784462400@buffalomodelboatclub.org
SUMMARY:Scale Fleet - Fun Run
DESCRIPTION:
URL:https://buffalomodelboatclub.org/event/scale-fleet-fun-run/
LOCATION:Muir Lake\, Pinchot Ct.\, Williamsville\, NY\, 14221\, United States
CATEGORIES:Fun Run
ORGANIZER;CN="Buffalo Model Boat Club":MAILTO:buffalomodelboatclub@gmail.com
END:VEVENT
BEGIN:VEVENT
DTSTART;TZID=America/Halifax:20260712T100000
DTEND;TZID=America/Halifax:20260712T120000
DTSTAMP:20260426T021413
CREATED:20260420T175245Z
LAST-MODIFIED:20260420T175245Z
UID:1852-1783850400-1783857600@buffalomodelboatclub.org
SUMMARY:Footy Team*
DESCRIPTION:Team Event
URL:https://buffalomodelboatclub.org/event/footy-team/
LOCATION:Buffalo Launch Club\, 503 East River Rd.\, Grand Island\, NY\, United States
CATEGORIES:Regattas
ORGANIZER;CN="Buffalo Model Boat Club":MAILTO:buffalomodelboatclub@gmail.com
END:VEVENT
BEGIN:VEVENT
DTSTART;TZID=America/Halifax:20260711T183000
DTEND;TZID=America/Halifax:20260711T210000
DTSTAMP:20260426T021413
CREATED:20221218T160435Z
LAST-MODIFIED:20260419T162442Z
UID:746-1783794600-1783803600@buffalomodelboatclub.org
SUMMARY:BMBC Monthly Meeting
DESCRIPTION:Alternate meeting location and time in case of inclement weather:\nPrince of Peace Church\, 7:00 pm
URL:https://buffalomodelboatclub.org/event/bmbc-monthly-meeting-12/
LOCATION:Muir Lake\, Pinchot Ct.\, Williamsville\, NY\, 14221\, United States
CATEGORIES:Meeting
ORGANIZER;CN="Buffalo Model Boat Club":MAILTO:buffalomodelboatclub@gmail.com
END:VEVENT
BEGIN:VEVENT
DTSTART;TZID=America/Halifax:20260630T170000
DTEND;TZID=America/Halifax:20260630T200000
DTSTAMP:20260426T021413
CREATED:20260419T154841Z
LAST-MODIFIED:20260419T154841Z
UID:1815-1782838800-1782849600@buffalomodelboatclub.org
SUMMARY:Blackjack 24 Races
DESCRIPTION:Warmup 5:30 pm   Races 6:00 pm
URL:https://buffalomodelboatclub.org/event/blackjack-24-races-3/
LOCATION:Muir Lake\, Pinchot Ct.\, Williamsville\, NY\, 14221\, United States
CATEGORIES:Regattas
ORGANIZER;CN="Buffalo Model Boat Club":MAILTO:buffalomodelboatclub@gmail.com
END:VEVENT
BEGIN:VEVENT
DTSTART;TZID=America/Halifax:20260628T100000
DTEND;TZID=America/Halifax:20260628T120000
DTSTAMP:20260426T021413
CREATED:20240318T205607Z
LAST-MODIFIED:20260419T160811Z
UID:1323-1782640800-1782648000@buffalomodelboatclub.org
SUMMARY:Scale Fleet -Fun Run
DESCRIPTION:
URL:https://buffalomodelboatclub.org/event/fun-run/
LOCATION:Muir Lake\, Pinchot Ct.\, Williamsville\, NY\, 14221\, United States
CATEGORIES:Fun Run
ORGANIZER;CN="Buffalo Model Boat Club":MAILTO:buffalomodelboatclub@gmail.com
END:VEVENT
BEGIN:VEVENT
DTSTART;TZID=America/Halifax:20260621T100000
DTEND;TZID=America/Halifax:20260621T120000
DTSTAMP:20260426T021413
CREATED:20260420T155958Z
LAST-MODIFIED:20260420T160600Z
UID:1846-1782036000-1782043200@buffalomodelboatclub.org
SUMMARY:1M Soling Team*
DESCRIPTION:Team Event
URL:https://buffalomodelboatclub.org/event/1m-soling-team/
LOCATION:Muir Lake\, Pinchot Ct.\, Williamsville\, NY\, 14221\, United States
CATEGORIES:Regattas
ORGANIZER;CN="Buffalo Model Boat Club":MAILTO:buffalomodelboatclub@gmail.com
END:VEVENT
BEGIN:VEVENT
DTSTART;TZID=America/Halifax:20260613T100000
DTEND;TZID=America/Halifax:20260613T160000
DTSTAMP:20260426T021413
CREATED:20240602T173446Z
LAST-MODIFIED:20260228T165008Z
UID:1460-1781344800-1781366400@buffalomodelboatclub.org
SUMMARY:Triple R Campground Fun Run
DESCRIPTION:
URL:https://buffalomodelboatclub.org/event/triple-r-campground-fun-run/
LOCATION:Triple-R Campground\, 3491 Bryant Hill Road\, Franklinville\, NY\, 14737\, United States
CATEGORIES:Fun Run
ORGANIZER;CN="Don Spielberger":MAILTO:buffalomodelboatclub@gmail.com
END:VEVENT
BEGIN:VEVENT
DTSTART;TZID=America/Halifax:20260607T100000
DTEND;TZID=America/Halifax:20260607T120000
DTSTAMP:20260426T021413
CREATED:20260420T155530Z
LAST-MODIFIED:20260420T155530Z
UID:1844-1780826400-1780833600@buffalomodelboatclub.org
SUMMARY:Footy Fleet Racing
DESCRIPTION:
URL:https://buffalomodelboatclub.org/event/footy-fleet-racing/
LOCATION:Muir Lake\, Pinchot Ct.\, Williamsville\, NY\, 14221\, United States
CATEGORIES:Regattas
ORGANIZER;CN="Buffalo Model Boat Club":MAILTO:buffalomodelboatclub@gmail.com
END:VEVENT
BEGIN:VEVENT
DTSTART;TZID=America/Halifax:20260606T183000
DTEND;TZID=America/Halifax:20260606T210000
DTSTAMP:20260426T021413
CREATED:20221218T025247Z
LAST-MODIFIED:20260419T162029Z
UID:735-1780770600-1780779600@buffalomodelboatclub.org
SUMMARY:BMBC Monthly Meeting
DESCRIPTION:Alternate meeting location and time in case of inclement weather:\nPrince of Peace Church\, 7:00 pm
URL:https://buffalomodelboatclub.org/event/bmbc-monthly-meeting-11/
LOCATION:Muir Lake\, Pinchot Ct.\, Williamsville\, NY\, 14221\, United States
CATEGORIES:Meeting
ORGANIZER;CN="Buffalo Model Boat Club":MAILTO:buffalomodelboatclub@gmail.com
END:VEVENT
BEGIN:VEVENT
DTSTART;TZID=America/Halifax:20260526T173000
DTEND;TZID=America/Halifax:20260526T200000
DTSTAMP:20260426T021413
CREATED:20260419T154458Z
LAST-MODIFIED:20260419T154458Z
UID:1809-1779816600-1779825600@buffalomodelboatclub.org
SUMMARY:Blackjack 24 Races
DESCRIPTION:Warmup 5:30 pm   Races 6:00 pm
URL:https://buffalomodelboatclub.org/event/blackjack-24-races-2/
LOCATION:Muir Lake\, Pinchot Ct.\, Williamsville\, NY\, 14221\, United States
CATEGORIES:Regattas
ORGANIZER;CN="Buffalo Model Boat Club":MAILTO:buffalomodelboatclub@gmail.com
END:VEVENT
BEGIN:VEVENT
DTSTART;TZID=America/Halifax:20260517T100000
DTEND;TZID=America/Halifax:20260517T120000
DTSTAMP:20260426T021413
CREATED:20260420T155120Z
LAST-MODIFIED:20260420T155218Z
UID:1841-1779012000-1779019200@buffalomodelboatclub.org
SUMMARY:Santa Barbara and Marblehead (50/800)
DESCRIPTION:
URL:https://buffalomodelboatclub.org/event/santa-barbara-and-marblehead-50-800/
LOCATION:Muir Lake\, Pinchot Ct.\, Williamsville\, NY\, 14221\, United States
CATEGORIES:Regattas
ORGANIZER;CN="Buffalo Model Boat Club":MAILTO:buffalomodelboatclub@gmail.com
END:VEVENT
BEGIN:VEVENT
DTSTART;TZID=America/Halifax:20260503T100000
DTEND;TZID=America/Halifax:20260503T120000
DTSTAMP:20260426T021413
CREATED:20260419T191217Z
LAST-MODIFIED:20260419T191217Z
UID:1835-1777802400-1777809600@buffalomodelboatclub.org
SUMMARY:All 1 M Boats Regatta
DESCRIPTION:US1M & Soling & anything 1M Solings and other 1M are permitted
URL:https://buffalomodelboatclub.org/event/all-1-m-boats-regatta/
LOCATION:Muir Lake\, Pinchot Ct.\, Williamsville\, NY\, 14221\, United States
ORGANIZER;CN="Buffalo Model Boat Club":MAILTO:buffalomodelboatclub@gmail.com
END:VEVENT
BEGIN:VEVENT
DTSTART;TZID=America/Halifax:20260502T190000
DTEND;TZID=America/Halifax:20260502T210000
DTSTAMP:20260426T021413
CREATED:20251205T011302Z
LAST-MODIFIED:20251205T011302Z
UID:1756-1777748400-1777755600@buffalomodelboatclub.org
SUMMARY:BMBC Monthly Meeting
DESCRIPTION:
URL:https://buffalomodelboatclub.org/event/bmbc-monthly-meeting-23/
LOCATION:Prince of Peace Church Hall\, 2311 George Urban Blvd.\, Cheektowaga\, NY\, United States
CATEGORIES:Meeting
ORGANIZER;CN="Buffalo Model Boat Club":MAILTO:buffalomodelboatclub@gmail.com
END:VEVENT
BEGIN:VEVENT
DTSTART;TZID=America/Halifax:20260428T173000
DTEND;TZID=America/Halifax:20260428T200000
DTSTAMP:20260426T021413
CREATED:20260419T145758Z
LAST-MODIFIED:20260419T192838Z
UID:1806-1777397400-1777406400@buffalomodelboatclub.org
SUMMARY:Blackjack 24 Races
DESCRIPTION:Warmup 5:30 pm  Racing 6:00 pm
URL:https://buffalomodelboatclub.org/event/blackjack-24-races/
LOCATION:Muir Lake\, Pinchot Ct.\, Williamsville\, NY\, 14221\, United States
CATEGORIES:Regattas
ORGANIZER;CN="Buffalo Model Boat Club":MAILTO:buffalomodelboatclub@gmail.com
END:VEVENT
BEGIN:VEVENT
DTSTART;TZID=America/Halifax:20260412T090000
DTEND;TZID=America/Halifax:20260412T160000
DTSTAMP:20260426T021413
CREATED:20240301T223618Z
LAST-MODIFIED:20260110T215505Z
UID:1290-1775984400-1776009600@buffalomodelboatclub.org
SUMMARY:BUFFCON 41 Scale Model Show
DESCRIPTION:.
URL:https://buffalomodelboatclub.org/event/buffcon-39-scale-model-show/
LOCATION:Knights Event Center\, 2735 Union Road\, Cheektowaga\, NY\, 14227\, United States
CATEGORIES:Show
END:VEVENT
BEGIN:VEVENT
DTSTART;TZID=America/Halifax:20260411T190000
DTEND;TZID=America/Halifax:20260411T210000
DTSTAMP:20260426T021413
CREATED:20251205T011119Z
LAST-MODIFIED:20260110T205532Z
UID:1754-1775934000-1775941200@buffalomodelboatclub.org
SUMMARY:BMBC Monthly Meeting
DESCRIPTION:
URL:https://buffalomodelboatclub.org/event/bmbc-monthly-meeting-22/
LOCATION:Prince of Peace Church Hall\, 2311 George Urban Blvd.\, Cheektowaga\, NY\, United States
CATEGORIES:Meeting
ORGANIZER;CN="Buffalo Model Boat Club":MAILTO:buffalomodelboatclub@gmail.com
END:VEVENT
BEGIN:VEVENT
DTSTART;TZID=America/Halifax:20260322T090000
DTEND;TZID=America/Halifax:20260322T140000
DTSTAMP:20260426T021413
CREATED:20260308T151707Z
LAST-MODIFIED:20260308T152508Z
UID:1794-1774170000-1774188000@buffalomodelboatclub.org
SUMMARY:"Cabin Fever" RC Model Boat Event
DESCRIPTION:9 am to 12 noon:  Scale Models\,  Balloon Busters\, Submarines \n12 noon to 2 pm:  RC Sailboats
URL:https://buffalomodelboatclub.org/event/cabin-fever-rc-model-boat-event/
LOCATION:Maryvale High School Pool\, 1050 Maryvale Drive\, Cheektowaga\, NY\, United States
CATEGORIES:Fun Run
ORGANIZER;CN="Kurt Hansen":MAILTO:khansen72@verizon.net
END:VEVENT
BEGIN:VEVENT
DTSTART;TZID=America/Halifax:20260307T190000
DTEND;TZID=America/Halifax:20260307T210000
DTSTAMP:20260426T021413
CREATED:20251205T010931Z
LAST-MODIFIED:20251205T010931Z
UID:1751-1772910000-1772917200@buffalomodelboatclub.org
SUMMARY:BMBC  Monthly Meeting
DESCRIPTION:
URL:https://buffalomodelboatclub.org/event/bmbc-monthly-meeting-21/
LOCATION:Prince of Peace Church Hall\, 2311 George Urban Blvd.\, Cheektowaga\, NY\, United States
CATEGORIES:Meeting
ORGANIZER;CN="Buffalo Model Boat Club":MAILTO:buffalomodelboatclub@gmail.com
END:VEVENT
BEGIN:VEVENT
DTSTART;TZID=America/Halifax:20260215T100000
DTEND;TZID=America/Halifax:20260215T160000
DTSTAMP:20260426T021413
CREATED:20240108T153416Z
LAST-MODIFIED:20251215T184215Z
UID:1259-1771149600-1771171200@buffalomodelboatclub.org
SUMMARY:WNYRHS Train & Toy Show
DESCRIPTION:
URL:https://buffalomodelboatclub.org/event/wnyrhs-train-toy-show/
LOCATION:Hamburg Fairgrounds Event Center\, 5820 South Park Ave.\, Hamburg\, NY
CATEGORIES:Show
END:VEVENT
BEGIN:VEVENT
DTSTART;TZID=America/Halifax:20260214T100000
DTEND;TZID=America/Halifax:20260214T170000
DTSTAMP:20260426T021413
CREATED:20240108T154159Z
LAST-MODIFIED:20251215T174058Z
UID:1264-1771063200-1771088400@buffalomodelboatclub.org
SUMMARY:WNYRHS Train & Toy Show
DESCRIPTION:
URL:https://buffalomodelboatclub.org/event/wnyrhs-train-toy-show-2/
LOCATION:Hamburg Fairgrounds Event Center\, 5820 South Park Ave.\, Hamburg\, NY
CATEGORIES:Show
END:VEVENT
BEGIN:VEVENT
DTSTART;TZID=America/Halifax:20260207T190000
DTEND;TZID=America/Halifax:20260207T210000
DTSTAMP:20260426T021413
CREATED:20250104T160956Z
LAST-MODIFIED:20251204T040708Z
UID:751-1770490800-1770498000@buffalomodelboatclub.org
SUMMARY:BMBC Monthly Meeting
DESCRIPTION:
URL:https://buffalomodelboatclub.org/event/bmbc-monthly-meeting-14/
LOCATION:Prince of Peace Church Hall\, 2311 George Urban Blvd.\, Cheektowaga\, NY\, United States
CATEGORIES:Meeting
ORGANIZER;CN="Buffalo Model Boat Club":MAILTO:buffalomodelboatclub@gmail.com
END:VEVENT
BEGIN:VEVENT
DTSTART;TZID=America/Halifax:20260116T181500
DTEND;TZID=America/Halifax:20260116T203000
DTSTAMP:20260426T021413
CREATED:20251217T021658Z
LAST-MODIFIED:20251217T022112Z
UID:1762-1768587300-1768595400@buffalomodelboatclub.org
SUMMARY:Winterfest 2026 - Tonawanda Aquatic Center
DESCRIPTION:BMBC member model boat display and operation
URL:https://buffalomodelboatclub.org/event/winterfest-2026-tonawanda-aquatic-center/
LOCATION:Town of Tonawanda Aquatic Center\, 1 Pool Plaza\, Town of Tonawanda\, NY\, 14223\, United States
CATEGORIES:Show
ORGANIZER;CN="Buffalo Model Boat Club":MAILTO:buffalomodelboatclub@gmail.com
END:VEVENT
BEGIN:VEVENT
DTSTART;TZID=America/Halifax:20260103T190000
DTEND;TZID=America/Halifax:20260103T210000
DTSTAMP:20260426T021413
CREATED:20221218T165124Z
LAST-MODIFIED:20251204T040441Z
UID:757-1767466800-1767474000@buffalomodelboatclub.org
SUMMARY:BMBC Monthly Meeting
DESCRIPTION:
URL:https://buffalomodelboatclub.org/event/bmbc-monthly-meeting-16/
LOCATION:Prince of Peace Church Hall\, 2311 George Urban Blvd.\, Cheektowaga\, NY\, United States
CATEGORIES:Meeting
ORGANIZER;CN="Buffalo Model Boat Club":MAILTO:buffalomodelboatclub@gmail.com
END:VEVENT
BEGIN:VEVENT
DTSTART;TZID=America/Halifax:20251206T190000
DTEND;TZID=America/Halifax:20251206T210000
DTSTAMP:20260426T021413
CREATED:20231218T022819Z
LAST-MODIFIED:20251116T210156Z
UID:1246-1765047600-1765054800@buffalomodelboatclub.org
SUMMARY:BMBC Monthly Meeting
DESCRIPTION:
URL:https://buffalomodelboatclub.org/event/bmbc-monthly-meeting-18/
LOCATION:Prince of Peace Church Hall\, 2311 George Urban Blvd.\, Cheektowaga\, NY\, United States
CATEGORIES:Meeting
ORGANIZER;CN="Buffalo Model Boat Club":MAILTO:buffalomodelboatclub@gmail.com
END:VEVENT
BEGIN:VEVENT
DTSTART;TZID=America/Halifax:20251123T100000
DTEND;TZID=America/Halifax:20251123T160000
DTSTAMP:20260426T021413
CREATED:20251120T022118Z
LAST-MODIFIED:20251120T022118Z
UID:1729-1763892000-1763913600@buffalomodelboatclub.org
SUMMARY:Train & Toy Show
DESCRIPTION:TT Show ’25
URL:https://buffalomodelboatclub.org/event/train-toy-show-2/
LOCATION:Hamburg Fairgrounds Event Center\, 5820 South Park Ave.\, Hamburg\, NY
CATEGORIES:Show
END:VEVENT
BEGIN:VEVENT
DTSTART;TZID=America/Halifax:20251122T100000
DTEND;TZID=America/Halifax:20251122T170000
DTSTAMP:20260426T021413
CREATED:20251120T021058Z
LAST-MODIFIED:20251120T021058Z
UID:1725-1763805600-1763830800@buffalomodelboatclub.org
SUMMARY:Train & Toy Show
DESCRIPTION:TT Show ’25
URL:https://buffalomodelboatclub.org/event/train-toy-show/
LOCATION:Hamburg Fairgrounds Event Center\, 5820 South Park Ave.\, Hamburg\, NY
CATEGORIES:Show
END:VEVENT
BEGIN:VEVENT
DTSTART;TZID=America/Halifax:20251005T100000
DTEND;TZID=America/Halifax:20251005T120000
DTSTAMP:20260426T021413
CREATED:20250306T024827Z
LAST-MODIFIED:20250306T024827Z
UID:1653-1759658400-1759665600@buffalomodelboatclub.org
SUMMARY:Santa Barbara & Marblehead Fleet Races
DESCRIPTION:Racing Rules – Muir Lake
URL:https://buffalomodelboatclub.org/event/santa-barbara-marblehead-fleet-races-2/
LOCATION:Muir Lake\, Pinchot Ct.\, Williamsville\, NY\, 14221\, United States
CATEGORIES:Regattas
ORGANIZER;CN="Buffalo Model Boat Club":MAILTO:buffalomodelboatclub@gmail.com
END:VEVENT
BEGIN:VEVENT
DTSTART;TZID=America/Halifax:20250928T100000
DTEND;TZID=America/Halifax:20250928T120000
DTSTAMP:20260426T021413
CREATED:20250306T024214Z
LAST-MODIFIED:20250306T024411Z
UID:1648-1759053600-1759060800@buffalomodelboatclub.org
SUMMARY:Fleet Racing - All One Meter Boats
DESCRIPTION:Racing Rules – Muir Lake
URL:https://buffalomodelboatclub.org/event/all-one-meter-boats/
LOCATION:Muir Lake\, Pinchot Ct.\, Williamsville\, NY\, 14221\, United States
CATEGORIES:Regattas
ORGANIZER;CN="Buffalo Model Boat Club":MAILTO:buffalomodelboatclub@gmail.com
END:VEVENT
BEGIN:VEVENT
DTSTART;TZID=America/Halifax:20250918T180000
DTEND;TZID=America/Halifax:20250918T200000
DTSTAMP:20260426T021413
CREATED:20240408T142643Z
LAST-MODIFIED:20250607T020843Z
UID:1450-1758218400-1758225600@buffalomodelboatclub.org
SUMMARY:Thursday Nights - Soling\,  1 Meter Fleet Racing
DESCRIPTION:No entry fee. Spectators and guests are welcome. Participating skippers must be BMBC members. Other sailboats are also welcome but will not be scored
URL:https://buffalomodelboatclub.org/event/thursday-nights-soling-1-meter-fleet-racing-19/
LOCATION:Muir Lake\, Pinchot Ct.\, Williamsville\, NY\, 14221\, United States
CATEGORIES:Regattas
ORGANIZER;CN="Buffalo Model Boat Club":MAILTO:buffalomodelboatclub@gmail.com
END:VEVENT
END:VCALENDAR