BEGIN:VCALENDAR
VERSION:2.0
PRODID:-//Buffalo Model Boat Club - ECPv6.15.20//NONSGML v1.0//EN
CALSCALE:GREGORIAN
METHOD:PUBLISH
X-WR-CALNAME:Buffalo Model Boat Club
X-ORIGINAL-URL:https://buffalomodelboatclub.org
X-WR-CALDESC:Events for Buffalo Model Boat Club
REFRESH-INTERVAL;VALUE=DURATION:PT1H
X-Robots-Tag:noindex
X-PUBLISHED-TTL:PT1H
BEGIN:VTIMEZONE
TZID:America/Halifax
BEGIN:DAYLIGHT
TZOFFSETFROM:-0400
TZOFFSETTO:-0300
TZNAME:ADT
DTSTART:20210314T060000
END:DAYLIGHT
BEGIN:STANDARD
TZOFFSETFROM:-0300
TZOFFSETTO:-0400
TZNAME:AST
DTSTART:20211107T050000
END:STANDARD
BEGIN:DAYLIGHT
TZOFFSETFROM:-0400
TZOFFSETTO:-0300
TZNAME:ADT
DTSTART:20220313T060000
END:DAYLIGHT
BEGIN:STANDARD
TZOFFSETFROM:-0300
TZOFFSETTO:-0400
TZNAME:AST
DTSTART:20221106T050000
END:STANDARD
BEGIN:DAYLIGHT
TZOFFSETFROM:-0400
TZOFFSETTO:-0300
TZNAME:ADT
DTSTART:20230312T060000
END:DAYLIGHT
BEGIN:STANDARD
TZOFFSETFROM:-0300
TZOFFSETTO:-0400
TZNAME:AST
DTSTART:20231105T050000
END:STANDARD
BEGIN:DAYLIGHT
TZOFFSETFROM:-0400
TZOFFSETTO:-0300
TZNAME:ADT
DTSTART:20240310T060000
END:DAYLIGHT
BEGIN:STANDARD
TZOFFSETFROM:-0300
TZOFFSETTO:-0400
TZNAME:AST
DTSTART:20241103T050000
END:STANDARD
BEGIN:DAYLIGHT
TZOFFSETFROM:-0400
TZOFFSETTO:-0300
TZNAME:ADT
DTSTART:20250309T060000
END:DAYLIGHT
BEGIN:STANDARD
TZOFFSETFROM:-0300
TZOFFSETTO:-0400
TZNAME:AST
DTSTART:20251102T050000
END:STANDARD
BEGIN:DAYLIGHT
TZOFFSETFROM:-0400
TZOFFSETTO:-0300
TZNAME:ADT
DTSTART:20260308T060000
END:DAYLIGHT
BEGIN:STANDARD
TZOFFSETFROM:-0300
TZOFFSETTO:-0400
TZNAME:AST
DTSTART:20261101T050000
END:STANDARD
BEGIN:DAYLIGHT
TZOFFSETFROM:-0400
TZOFFSETTO:-0300
TZNAME:ADT
DTSTART:20270314T060000
END:DAYLIGHT
BEGIN:STANDARD
TZOFFSETFROM:-0300
TZOFFSETTO:-0400
TZNAME:AST
DTSTART:20271107T050000
END:STANDARD
END:VTIMEZONE
BEGIN:VTIMEZONE
TZID:UTC
BEGIN:STANDARD
TZOFFSETFROM:+0000
TZOFFSETTO:+0000
TZNAME:UTC
DTSTART:20220101T000000
END:STANDARD
END:VTIMEZONE
BEGIN:VTIMEZONE
TZID:Asia/Dubai
BEGIN:STANDARD
TZOFFSETFROM:+0400
TZOFFSETTO:+0400
TZNAME:+04
DTSTART:20220101T000000
END:STANDARD
END:VTIMEZONE
BEGIN:VEVENT
DTSTART;TZID=America/Halifax:20260412T090000
DTEND;TZID=America/Halifax:20260412T160000
DTSTAMP:20260425T203731
CREATED:20240301T223618Z
LAST-MODIFIED:20260110T215505Z
UID:1290-1775984400-1776009600@buffalomodelboatclub.org
SUMMARY:BUFFCON 41 Scale Model Show
DESCRIPTION:.
URL:https://buffalomodelboatclub.org/event/buffcon-39-scale-model-show/
LOCATION:Knights Event Center\, 2735 Union Road\, Cheektowaga\, NY\, 14227\, United States
CATEGORIES:Show
END:VEVENT
BEGIN:VEVENT
DTSTART;TZID=America/Halifax:20260215T100000
DTEND;TZID=America/Halifax:20260215T160000
DTSTAMP:20260425T203731
CREATED:20240108T153416Z
LAST-MODIFIED:20251215T184215Z
UID:1259-1771149600-1771171200@buffalomodelboatclub.org
SUMMARY:WNYRHS Train & Toy Show
DESCRIPTION:
URL:https://buffalomodelboatclub.org/event/wnyrhs-train-toy-show/
LOCATION:Hamburg Fairgrounds Event Center\, 5820 South Park Ave.\, Hamburg\, NY
CATEGORIES:Show
END:VEVENT
BEGIN:VEVENT
DTSTART;TZID=America/Halifax:20260214T100000
DTEND;TZID=America/Halifax:20260214T170000
DTSTAMP:20260425T203731
CREATED:20240108T154159Z
LAST-MODIFIED:20251215T174058Z
UID:1264-1771063200-1771088400@buffalomodelboatclub.org
SUMMARY:WNYRHS Train & Toy Show
DESCRIPTION:
URL:https://buffalomodelboatclub.org/event/wnyrhs-train-toy-show-2/
LOCATION:Hamburg Fairgrounds Event Center\, 5820 South Park Ave.\, Hamburg\, NY
CATEGORIES:Show
END:VEVENT
BEGIN:VEVENT
DTSTART;TZID=America/Halifax:20260116T181500
DTEND;TZID=America/Halifax:20260116T203000
DTSTAMP:20260425T203731
CREATED:20251217T021658Z
LAST-MODIFIED:20251217T022112Z
UID:1762-1768587300-1768595400@buffalomodelboatclub.org
SUMMARY:Winterfest 2026 - Tonawanda Aquatic Center
DESCRIPTION:BMBC member model boat display and operation
URL:https://buffalomodelboatclub.org/event/winterfest-2026-tonawanda-aquatic-center/
LOCATION:Town of Tonawanda Aquatic Center\, 1 Pool Plaza\, Town of Tonawanda\, NY\, 14223\, United States
CATEGORIES:Show
ORGANIZER;CN="Buffalo Model Boat Club":MAILTO:buffalomodelboatclub@gmail.com
END:VEVENT
BEGIN:VEVENT
DTSTART;TZID=America/Halifax:20251123T100000
DTEND;TZID=America/Halifax:20251123T160000
DTSTAMP:20260425T203731
CREATED:20251120T022118Z
LAST-MODIFIED:20251120T022118Z
UID:1729-1763892000-1763913600@buffalomodelboatclub.org
SUMMARY:Train & Toy Show
DESCRIPTION:TT Show ’25
URL:https://buffalomodelboatclub.org/event/train-toy-show-2/
LOCATION:Hamburg Fairgrounds Event Center\, 5820 South Park Ave.\, Hamburg\, NY
CATEGORIES:Show
END:VEVENT
BEGIN:VEVENT
DTSTART;TZID=America/Halifax:20251122T100000
DTEND;TZID=America/Halifax:20251122T170000
DTSTAMP:20260425T203731
CREATED:20251120T021058Z
LAST-MODIFIED:20251120T021058Z
UID:1725-1763805600-1763830800@buffalomodelboatclub.org
SUMMARY:Train & Toy Show
DESCRIPTION:TT Show ’25
URL:https://buffalomodelboatclub.org/event/train-toy-show/
LOCATION:Hamburg Fairgrounds Event Center\, 5820 South Park Ave.\, Hamburg\, NY
CATEGORIES:Show
END:VEVENT
BEGIN:VEVENT
DTSTART;TZID=America/Halifax:20250719T100000
DTEND;TZID=America/Halifax:20250719T160000
DTSTAMP:20260425T203731
CREATED:20230424T011400Z
LAST-MODIFIED:20250513T194127Z
UID:1041-1752919200-1752940800@buffalomodelboatclub.org
SUMMARY:Hammondsport Classic Boat Show
DESCRIPTION:
URL:https://buffalomodelboatclub.org/event/hammondsport-classic-boat-show-3/
LOCATION:Depot Park on Keuka Lake\, Depot Park\, Hammondsport\, NY\, United States
CATEGORIES:Regattas,Show
END:VEVENT
BEGIN:VEVENT
DTSTART;TZID=America/Halifax:20250117T183000
DTEND;TZID=America/Halifax:20250117T203000
DTSTAMP:20260425T203731
CREATED:20231209T013946Z
LAST-MODIFIED:20250102T155258Z
UID:1223-1737138600-1737145800@buffalomodelboatclub.org
SUMMARY:Winterfest 2025 Pool
DESCRIPTION:Winterfest Schedule 2025
URL:https://buffalomodelboatclub.org/event/winterfest-2025-pool/
LOCATION:Town of Tonawanda Aquatic Center\, 1 Pool Plaza\, Town of Tonawanda\, NY\, 14223\, United States
CATEGORIES:Show
ORGANIZER;CN="Buffalo Model Boat Club":MAILTO:buffalomodelboatclub@gmail.com
END:VEVENT
BEGIN:VEVENT
DTSTART;VALUE=DATE:20230806
DTEND;VALUE=DATE:20230807
DTSTAMP:20260425T203731
CREATED:20230522T011658Z
LAST-MODIFIED:20230522T011658Z
UID:1156-1691280000-1691366399@buffalomodelboatclub.org
SUMMARY:Port Colborne Canal Days Festival and GLMBA Show.
DESCRIPTION:
URL:https://buffalomodelboatclub.org/event/port-colborne-canal-days-festival-and-glmba-show-2/
LOCATION:Vale Health & Wellness Centre\, 550 Elizabeth Street\, Port Colborne\, Ontario\, L3K 5W3\, Canada
CATEGORIES:Show
END:VEVENT
BEGIN:VEVENT
DTSTART;VALUE=DATE:20230805
DTEND;VALUE=DATE:20230806
DTSTAMP:20260425T203731
CREATED:20230522T011420Z
LAST-MODIFIED:20230522T011420Z
UID:1154-1691193600-1691279999@buffalomodelboatclub.org
SUMMARY:Port Colborne Canal Days Festival and GLMBA Show.
DESCRIPTION:
URL:https://buffalomodelboatclub.org/event/port-colborne-canal-days-festival-and-glmba-show/
LOCATION:Vale Health & Wellness Centre\, 550 Elizabeth Street\, Port Colborne\, Ontario\, L3K 5W3\, Canada
CATEGORIES:Show
END:VEVENT
BEGIN:VEVENT
DTSTART;TZID=Asia/Dubai:20230219T100000
DTEND;TZID=Asia/Dubai:20230219T160000
DTSTAMP:20260425T203731
CREATED:20221223T181930Z
LAST-MODIFIED:20221223T182626Z
UID:765-1676800800-1676822400@buffalomodelboatclub.org
SUMMARY:WNYRHS Winter Train & Toy Show
DESCRIPTION:
URL:https://buffalomodelboatclub.org/event/wnyrhs-winter-train-toy-show-2/
LOCATION:Hamburg Fairgrounds Event Center\, 5820 South Park Ave.\, Hamburg\, NY
CATEGORIES:Show
END:VEVENT
BEGIN:VEVENT
DTSTART;TZID=Asia/Dubai:20230218T100000
DTEND;TZID=Asia/Dubai:20230218T170000
DTSTAMP:20260425T203731
CREATED:20221223T181522Z
LAST-MODIFIED:20221223T182355Z
UID:761-1676714400-1676739600@buffalomodelboatclub.org
SUMMARY:WNYRHS Winter Train & Toy Show
DESCRIPTION:
URL:https://buffalomodelboatclub.org/event/wnyrhs-winter-train-toy-show/
LOCATION:Hamburg Fairgrounds Event Center\, 5820 South Park Ave.\, Hamburg\, NY
CATEGORIES:Show
END:VEVENT
BEGIN:VEVENT
DTSTART;TZID=America/Halifax:20220917T100000
DTEND;TZID=America/Halifax:20220917T160000
DTSTAMP:20260425T203731
CREATED:20220616T140456Z
LAST-MODIFIED:20220702T213531Z
UID:397-1663408800-1663430400@buffalomodelboatclub.org
SUMMARY:BLC Antique and Classic Boat Show
DESCRIPTION:
URL:https://buffalomodelboatclub.org/event/antique-boat-show/
LOCATION:Buffalo Launch Club\, 503 East River Rd.\, Grand Island\, NY\, United States
CATEGORIES:Show
END:VEVENT
BEGIN:VEVENT
DTSTART;TZID=America/Halifax:20220731T080000
DTEND;TZID=America/Halifax:20220731T140000
DTSTAMP:20260425T203731
CREATED:20220702T204136Z
LAST-MODIFIED:20220702T204136Z
UID:527-1659254400-1659276000@buffalomodelboatclub.org
SUMMARY:Skaneateles Antique & Classic Boat Show
DESCRIPTION:
URL:https://buffalomodelboatclub.org/event/skaneateles-antique-classic-boat-show-3/
LOCATION:Clift Park\, Skaneateles NY\, Clift Park\, Skaneateles\, NY\, United States
CATEGORIES:Show
END:VEVENT
BEGIN:VEVENT
DTSTART;TZID=America/Halifax:20220730T090000
DTEND;TZID=America/Halifax:20220730T193000
DTSTAMP:20260425T203731
CREATED:20220702T204010Z
LAST-MODIFIED:20220702T204010Z
UID:525-1659171600-1659209400@buffalomodelboatclub.org
SUMMARY:Skaneateles Antique & Classic Boat Show
DESCRIPTION:
URL:https://buffalomodelboatclub.org/event/skaneateles-antique-classic-boat-show-2/
LOCATION:Clift Park\, Skaneateles NY\, Clift Park\, Skaneateles\, NY\, United States
CATEGORIES:Show
END:VEVENT
BEGIN:VEVENT
DTSTART;TZID=America/Halifax:20220729T150000
DTEND;TZID=America/Halifax:20220729T193000
DTSTAMP:20260425T203731
CREATED:20220702T203408Z
LAST-MODIFIED:20220702T203806Z
UID:521-1659106800-1659123000@buffalomodelboatclub.org
SUMMARY:Skaneateles Antique & Classic Boat Show
DESCRIPTION:
URL:https://buffalomodelboatclub.org/event/skaneateles-antique-classic-boat-show/
LOCATION:Clift Park\, Skaneateles NY\, Clift Park\, Skaneateles\, NY\, United States
CATEGORIES:Show
END:VEVENT
BEGIN:VEVENT
DTSTART;TZID=America/Halifax:20220717T090000
DTEND;TZID=America/Halifax:20220717T130000
DTSTAMP:20260425T203731
CREATED:20220702T203054Z
LAST-MODIFIED:20220702T203054Z
UID:519-1658048400-1658062800@buffalomodelboatclub.org
SUMMARY:Hammondsport Classic Boat Show
DESCRIPTION:
URL:https://buffalomodelboatclub.org/event/hammondsport-classic-boat-show/
LOCATION:Depot Park on Keuka Lake\, Depot Park\, Hammondsport\, NY\, United States
CATEGORIES:Show
END:VEVENT
BEGIN:VEVENT
DTSTART;TZID=America/Halifax:20220716T090000
DTEND;TZID=America/Halifax:20220716T170000
DTSTAMP:20260425T203731
CREATED:20220702T200718Z
LAST-MODIFIED:20220702T202553Z
UID:511-1657962000-1657990800@buffalomodelboatclub.org
SUMMARY:Hammondsport  Classic Boat Show
DESCRIPTION:
URL:https://buffalomodelboatclub.org/event/hammondsport-antique-classic-boat-show-2/
LOCATION:Depot Park on Keuka Lake\, Depot Park\, Hammondsport\, NY\, United States
CATEGORIES:Show
END:VEVENT
END:VCALENDAR