BEGIN:VCALENDAR
VERSION:2.0
PRODID:-//Buffalo Model Boat Club - ECPv6.15.20//NONSGML v1.0//EN
CALSCALE:GREGORIAN
METHOD:PUBLISH
X-WR-CALNAME:Buffalo Model Boat Club
X-ORIGINAL-URL:https://buffalomodelboatclub.org
X-WR-CALDESC:Events for Buffalo Model Boat Club
REFRESH-INTERVAL;VALUE=DURATION:PT1H
X-Robots-Tag:noindex
X-PUBLISHED-TTL:PT1H
BEGIN:VTIMEZONE
TZID:America/Halifax
BEGIN:DAYLIGHT
TZOFFSETFROM:-0400
TZOFFSETTO:-0300
TZNAME:ADT
DTSTART:20220313T060000
END:DAYLIGHT
BEGIN:STANDARD
TZOFFSETFROM:-0300
TZOFFSETTO:-0400
TZNAME:AST
DTSTART:20221106T050000
END:STANDARD
BEGIN:DAYLIGHT
TZOFFSETFROM:-0400
TZOFFSETTO:-0300
TZNAME:ADT
DTSTART:20230312T060000
END:DAYLIGHT
BEGIN:STANDARD
TZOFFSETFROM:-0300
TZOFFSETTO:-0400
TZNAME:AST
DTSTART:20231105T050000
END:STANDARD
BEGIN:DAYLIGHT
TZOFFSETFROM:-0400
TZOFFSETTO:-0300
TZNAME:ADT
DTSTART:20240310T060000
END:DAYLIGHT
BEGIN:STANDARD
TZOFFSETFROM:-0300
TZOFFSETTO:-0400
TZNAME:AST
DTSTART:20241103T050000
END:STANDARD
BEGIN:DAYLIGHT
TZOFFSETFROM:-0400
TZOFFSETTO:-0300
TZNAME:ADT
DTSTART:20250309T060000
END:DAYLIGHT
BEGIN:STANDARD
TZOFFSETFROM:-0300
TZOFFSETTO:-0400
TZNAME:AST
DTSTART:20251102T050000
END:STANDARD
END:VTIMEZONE
BEGIN:VTIMEZONE
TZID:UTC
BEGIN:STANDARD
TZOFFSETFROM:+0000
TZOFFSETTO:+0000
TZNAME:UTC
DTSTART:20230101T000000
END:STANDARD
END:VTIMEZONE
BEGIN:VEVENT
DTSTART;TZID=America/Halifax:20240811T100000
DTEND;TZID=America/Halifax:20240811T120000
DTSTAMP:20260426T023325
CREATED:20240403T174234Z
LAST-MODIFIED:20240403T174234Z
UID:1362-1723370400-1723377600@buffalomodelboatclub.org
SUMMARY:Doug Hemingway Memorial Regatta
DESCRIPTION:No entry fee. Spectators and guests are welcome. Participating skippers must be BMBC members. Other sailboats are also welcome but will not be scored
URL:https://buffalomodelboatclub.org/event/doug-hemingway-memorial-regatta/
LOCATION:Fairmount Park\, 6812 Nash Road\, \, NY\, Wheatfield\, NY\, 14228\, United States
CATEGORIES:Regattas
ORGANIZER;CN="Buffalo Model Boat Club":MAILTO:buffalomodelboatclub@gmail.com
END:VEVENT
BEGIN:VEVENT
DTSTART;TZID=America/Halifax:20240728T090000
DTEND;TZID=America/Halifax:20240728T170000
DTSTAMP:20260426T023325
CREATED:20230424T015437Z
LAST-MODIFIED:20240602T171451Z
UID:1049-1722157200-1722186000@buffalomodelboatclub.org
SUMMARY:Skaneateles Antique & Classic Boat Show
DESCRIPTION:
URL:https://buffalomodelboatclub.org/event/skaneateles-antique-classic-boat-show-5/
LOCATION:Clift Park\, Skaneateles NY\, Clift Park\, Skaneateles\, NY\, United States
CATEGORIES:Regattas
END:VEVENT
BEGIN:VEVENT
DTSTART;TZID=America/Halifax:20240721T100000
DTEND;TZID=America/Halifax:20240721T120000
DTSTAMP:20260426T023325
CREATED:20240403T171645Z
LAST-MODIFIED:20240403T171645Z
UID:1360-1721556000-1721563200@buffalomodelboatclub.org
SUMMARY:Soling\, 1 Meter Regatta
DESCRIPTION:Skippers meeting 10:00 am. No entry fee. Spectators and guests are welcome. Participating skippers must be BMBC members. Other sailboats are also welcome but will not be scored
URL:https://buffalomodelboatclub.org/event/soling-1-meter-regatta/
LOCATION:Muir Lake\, Pinchot Ct.\, Williamsville\, NY\, 14221\, United States
CATEGORIES:Regattas
ORGANIZER;CN="Buffalo Model Boat Club":MAILTO:buffalomodelboatclub@gmail.com
END:VEVENT
BEGIN:VEVENT
DTSTART;TZID=America/Halifax:20240721T100000
DTEND;TZID=America/Halifax:20240721T120000
DTSTAMP:20260426T023325
CREATED:20230424T011148Z
LAST-MODIFIED:20240602T171232Z
UID:1039-1721556000-1721563200@buffalomodelboatclub.org
SUMMARY:Hammondsport Classic Boat Show
DESCRIPTION:
URL:https://buffalomodelboatclub.org/event/hammondsport-classic-boat-show-2/
LOCATION:Depot Park on Keuka Lake\, Depot Park\, Hammondsport\, NY\, United States
CATEGORIES:Regattas
END:VEVENT
BEGIN:VEVENT
DTSTART;TZID=America/Halifax:20240707T100000
DTEND;TZID=America/Halifax:20240707T120000
DTSTAMP:20260426T023325
CREATED:20240402T202444Z
LAST-MODIFIED:20240402T202444Z
UID:1358-1720346400-1720353600@buffalomodelboatclub.org
SUMMARY:Footy Fleet Tune Up
DESCRIPTION:Skippers meeting 10:00 am. No entry fee. Spectators and guests are welcome. Participating skippers must be BMBC members. Other sailboats are also welcome but will not be scored
URL:https://buffalomodelboatclub.org/event/footy-fleet-tune-up-2/
LOCATION:Muir Lake\, Pinchot Ct.\, Williamsville\, NY\, 14221\, United States
CATEGORIES:Regattas
ORGANIZER;CN="Buffalo Model Boat Club":MAILTO:buffalomodelboatclub@gmail.com
END:VEVENT
BEGIN:VEVENT
DTSTART;TZID=UTC:20240609T100000
DTEND;TZID=UTC:20240609T120000
DTSTAMP:20260426T023325
CREATED:20240402T201714Z
LAST-MODIFIED:20240402T201714Z
UID:1354-1717927200-1717934400@buffalomodelboatclub.org
SUMMARY:Footy Fleet Tune-Up
DESCRIPTION:Skippers meeting 10:00 am. No entry fee. Spectators and guests are welcome. Participating skippers must be BMBC members. Other sailboats are also welcome but will not be scored
URL:https://buffalomodelboatclub.org/event/footy-fleet-tune-up/
LOCATION:Muir Lake\, Pinchot Ct.\, Williamsville\, NY\, 14221\, United States
CATEGORIES:Regattas
ORGANIZER;CN="Buffalo Model Boat Club":MAILTO:buffalomodelboatclub@gmail.com
END:VEVENT
BEGIN:VEVENT
DTSTART;TZID=America/Halifax:20240530T180000
DTEND;TZID=America/Halifax:20240530T210000
DTSTAMP:20260426T023325
CREATED:20240402T201244Z
LAST-MODIFIED:20240402T201244Z
UID:1352-1717092000-1717102800@buffalomodelboatclub.org
SUMMARY:Thursday Nights - Soling\,  1 Meter Fleet Racing
DESCRIPTION:No entry fee. Spectators and guests are welcome. Participating skippers must be BMBC members. Other sailboats are also welcome but will not be scored
URL:https://buffalomodelboatclub.org/event/thursday-nights-soling-1-meter-fleet-racing-3/
LOCATION:Muir Lake\, Pinchot Ct.\, Williamsville\, NY\, 14221\, United States
CATEGORIES:Regattas
ORGANIZER;CN="Buffalo Model Boat Club":MAILTO:buffalomodelboatclub@gmail.com
END:VEVENT
BEGIN:VEVENT
DTSTART;TZID=America/Halifax:20240528T180000
DTEND;TZID=America/Halifax:20240528T210000
DTSTAMP:20260426T023325
CREATED:20230517T004519Z
LAST-MODIFIED:20240520T142701Z
UID:1068-1716919200-1716930000@buffalomodelboatclub.org
SUMMARY:Tuesday  Nights – Fast Electric Fleet
DESCRIPTION:On Tuesday evenings\, the Fast Electric fleet members gather at Muir Lake for informal running\, testing of new or modified boats\, sharing of useful information and general fellowship. The camaraderie and assistance of fellow modelers can help solve problems encountered in the model building process and operation of the model boats. New sailors and spectators welcomed.
URL:https://buffalomodelboatclub.org/event/tuesday-nights-fast-electric-fleet-15/
LOCATION:Muir Lake\, Pinchot Ct.\, Williamsville\, NY\, 14221\, United States
CATEGORIES:Regattas
ORGANIZER;CN="Buffalo Model Boat Club":MAILTO:buffalomodelboatclub@gmail.com
END:VEVENT
BEGIN:VEVENT
DTSTART;TZID=America/Halifax:20240523T180000
DTEND;TZID=America/Halifax:20240523T210000
DTSTAMP:20260426T023325
CREATED:20240402T200629Z
LAST-MODIFIED:20240402T200629Z
UID:1348-1716487200-1716498000@buffalomodelboatclub.org
SUMMARY:Thursday Nights - Soling\,  1 Meter Fleet Racing
DESCRIPTION:No entry fee. Spectators and guests are welcome. Participating skippers must be BMBC members. Other sailboats are also welcome but will not be scored.
URL:https://buffalomodelboatclub.org/event/thursday-nights-soling-1-meter-fleet-racing-2/
LOCATION:Muir Lake\, Pinchot Ct.\, Williamsville\, NY\, 14221\, United States
CATEGORIES:Regattas
ORGANIZER;CN="Buffalo Model Boat Club":MAILTO:buffalomodelboatclub@gmail.com
END:VEVENT
BEGIN:VEVENT
DTSTART;TZID=America/Halifax:20240521T180000
DTEND;TZID=America/Halifax:20240521T210000
DTSTAMP:20260426T023325
CREATED:20240507T220938Z
LAST-MODIFIED:20240507T221149Z
UID:1452-1716314400-1716325200@buffalomodelboatclub.org
SUMMARY:Tuesday Nights-Fast Electric Fleet
DESCRIPTION:On Tuesday evenings\, the Fast Electric fleet members gather at Muir Lake for informal running\, testing of new or modified boats\, sharing of useful information and general fellowship. The camaraderie and assistance of fellow modelers can help solve problems encountered in the model building process and operation of the model boats. New sailors and spectators welcomed.
URL:https://buffalomodelboatclub.org/event/fast-electric-fleet/
LOCATION:Muir Lake\, Pinchot Ct.\, Williamsville\, NY\, 14221\, United States
CATEGORIES:Regattas
ORGANIZER;CN="Buffalo Model Boat Club":MAILTO:buffalomodelboatclub@gmail.com
END:VEVENT
BEGIN:VEVENT
DTSTART;TZID=America/Halifax:20230914T180000
DTEND;TZID=America/Halifax:20230914T200000
DTSTAMP:20260426T023325
CREATED:20230522T005546Z
LAST-MODIFIED:20230522T005546Z
UID:1147-1694714400-1694721600@buffalomodelboatclub.org
SUMMARY:Thursday Nights - Sail Fleet
DESCRIPTION:No entry fee. Regular skippers must be club members. New sailors and spectators welcomed.
URL:https://buffalomodelboatclub.org/event/thursday-nights-sail-fleet-37/
LOCATION:Muir Lake\, Pinchot Ct.\, Williamsville\, NY\, 14221\, United States
CATEGORIES:Regattas
ORGANIZER;CN="Buffalo Model Boat Club":MAILTO:buffalomodelboatclub@gmail.com
END:VEVENT
BEGIN:VEVENT
DTSTART;TZID=America/Halifax:20230907T180000
DTEND;TZID=America/Halifax:20230907T200000
DTSTAMP:20260426T023325
CREATED:20230522T005408Z
LAST-MODIFIED:20230522T005408Z
UID:1145-1694109600-1694116800@buffalomodelboatclub.org
SUMMARY:Thursday Nights - Sail Fleet
DESCRIPTION:No entry fee. Regular skippers must be club members. New sailors and spectators welcomed.
URL:https://buffalomodelboatclub.org/event/thursday-nights-sail-fleet-36/
LOCATION:Muir Lake\, Pinchot Ct.\, Williamsville\, NY\, 14221\, United States
CATEGORIES:Regattas
ORGANIZER;CN="Buffalo Model Boat Club":MAILTO:buffalomodelboatclub@gmail.com
END:VEVENT
BEGIN:VEVENT
DTSTART;TZID=America/Halifax:20230905T180000
DTEND;TZID=America/Halifax:20230905T210000
DTSTAMP:20260426T023325
CREATED:20230517T143527Z
LAST-MODIFIED:20230517T143527Z
UID:1114-1693936800-1693947600@buffalomodelboatclub.org
SUMMARY:Tuesday  Nights – Fast Electric Fleet
DESCRIPTION:On Tuesday evenings\, the Fast Electric fleet members gather at Muir Lake for informal running\, testing of new or modified boats\, sharing of useful information and general fellowship. The camaraderie and assistance of fellow modelers can help solve problems encountered in the model building process and operation of the model boats. New sailors and spectators welcomed.
URL:https://buffalomodelboatclub.org/event/tuesday-nights-fast-electric-fleet-29/
LOCATION:Muir Lake\, Pinchot Ct.\, Williamsville\, NY\, 14221\, United States
CATEGORIES:Regattas
ORGANIZER;CN="Buffalo Model Boat Club":MAILTO:buffalomodelboatclub@gmail.com
END:VEVENT
BEGIN:VEVENT
DTSTART;TZID=America/Halifax:20230831T180000
DTEND;TZID=America/Halifax:20230831T210000
DTSTAMP:20260426T023325
CREATED:20230522T005129Z
LAST-MODIFIED:20230529T020205Z
UID:1143-1693504800-1693515600@buffalomodelboatclub.org
SUMMARY:Thursday Nights - Sail Fleet
DESCRIPTION:No entry fee. Regular skippers must be club members. New sailors and spectators welcomed.
URL:https://buffalomodelboatclub.org/event/thursday-nights-sail-fleet-35/
LOCATION:Muir Lake\, Pinchot Ct.\, Williamsville\, NY\, 14221\, United States
CATEGORIES:Regattas
ORGANIZER;CN="Buffalo Model Boat Club":MAILTO:buffalomodelboatclub@gmail.com
END:VEVENT
BEGIN:VEVENT
DTSTART;TZID=America/Halifax:20230830T180000
DTEND;TZID=America/Halifax:20230830T210000
DTSTAMP:20260426T023325
CREATED:20230321T164443Z
LAST-MODIFIED:20230321T164443Z
UID:957-1693418400-1693429200@buffalomodelboatclub.org
SUMMARY:Wednesday Nights - Scale Fleet
DESCRIPTION:Informal running\, testing of new or modified boats\, sharing of useful information and general fellowship. Spectators are always welcome.
URL:https://buffalomodelboatclub.org/event/wednesday-nights-scale-fleet-18/
LOCATION:Muir Lake\, Pinchot Ct.\, Williamsville\, NY\, 14221\, United States
CATEGORIES:Regattas
ORGANIZER;CN="Buffalo Model Boat Club":MAILTO:buffalomodelboatclub@gmail.com
END:VEVENT
BEGIN:VEVENT
DTSTART;TZID=America/Halifax:20230829T180000
DTEND;TZID=America/Halifax:20230829T210000
DTSTAMP:20260426T023325
CREATED:20230517T143310Z
LAST-MODIFIED:20230517T143310Z
UID:1112-1693332000-1693342800@buffalomodelboatclub.org
SUMMARY:Tuesday  Nights – Fast Electric Fleet
DESCRIPTION:On Tuesday evenings\, the Fast Electric fleet members gather at Muir Lake for informal running\, testing of new or modified boats\, sharing of useful information and general fellowship. The camaraderie and assistance of fellow modelers can help solve problems encountered in the model building process and operation of the model boats. New sailors and spectators welcomed.
URL:https://buffalomodelboatclub.org/event/tuesday-nights-fast-electric-fleet-28/
LOCATION:Muir Lake\, Pinchot Ct.\, Williamsville\, NY\, 14221\, United States
CATEGORIES:Regattas
ORGANIZER;CN="Buffalo Model Boat Club":MAILTO:buffalomodelboatclub@gmail.com
END:VEVENT
BEGIN:VEVENT
DTSTART;TZID=America/Halifax:20230828T180000
DTEND;TZID=America/Halifax:20230828T210000
DTSTAMP:20260426T023325
CREATED:20230319T191717Z
LAST-MODIFIED:20230529T020121Z
UID:901-1693245600-1693256400@buffalomodelboatclub.org
SUMMARY:Monday Nights - Sail Fleet
DESCRIPTION:No entry fee. Regular skippers must be club members. New sailors and spectators welcomed.
URL:https://buffalomodelboatclub.org/event/monday-nights-sail-fleet-32/
LOCATION:Muir Lake\, Pinchot Ct.\, Williamsville\, NY\, 14221\, United States
CATEGORIES:Regattas
ORGANIZER;CN="Buffalo Model Boat Club":MAILTO:buffalomodelboatclub@gmail.com
END:VEVENT
BEGIN:VEVENT
DTSTART;TZID=America/Halifax:20230824T180000
DTEND;TZID=America/Halifax:20230824T210000
DTSTAMP:20260426T023325
CREATED:20230522T005010Z
LAST-MODIFIED:20230529T020026Z
UID:1141-1692900000-1692910800@buffalomodelboatclub.org
SUMMARY:Thursday Nights - Sail Fleet
DESCRIPTION:No entry fee. Regular skippers must be club members. New sailors and spectators welcomed.
URL:https://buffalomodelboatclub.org/event/thursday-nights-sail-fleet-34/
LOCATION:Muir Lake\, Pinchot Ct.\, Williamsville\, NY\, 14221\, United States
CATEGORIES:Regattas
ORGANIZER;CN="Buffalo Model Boat Club":MAILTO:buffalomodelboatclub@gmail.com
END:VEVENT
BEGIN:VEVENT
DTSTART;TZID=America/Halifax:20230823T180000
DTEND;TZID=America/Halifax:20230823T210000
DTSTAMP:20260426T023325
CREATED:20230321T164256Z
LAST-MODIFIED:20230321T164256Z
UID:955-1692813600-1692824400@buffalomodelboatclub.org
SUMMARY:Wednesday Nights - Scale Fleet
DESCRIPTION:Informal running\, testing of new or modified boats\, sharing of useful information and general fellowship. Spectators are always welcome.
URL:https://buffalomodelboatclub.org/event/wednesday-nights-scale-fleet-17/
LOCATION:Muir Lake\, Pinchot Ct.\, Williamsville\, NY\, 14221\, United States
CATEGORIES:Regattas
ORGANIZER;CN="Buffalo Model Boat Club":MAILTO:buffalomodelboatclub@gmail.com
END:VEVENT
BEGIN:VEVENT
DTSTART;TZID=America/Halifax:20230822T180000
DTEND;TZID=America/Halifax:20230822T210000
DTSTAMP:20260426T023325
CREATED:20230517T143150Z
LAST-MODIFIED:20230517T143150Z
UID:1110-1692727200-1692738000@buffalomodelboatclub.org
SUMMARY:Tuesday  Nights – Fast Electric Fleet
DESCRIPTION:On Tuesday evenings\, the Fast Electric fleet members gather at Muir Lake for informal running\, testing of new or modified boats\, sharing of useful information and general fellowship. The camaraderie and assistance of fellow modelers can help solve problems encountered in the model building process and operation of the model boats. New sailors and spectators welcomed.
URL:https://buffalomodelboatclub.org/event/tuesday-nights-fast-electric-fleet-27/
LOCATION:Muir Lake\, Pinchot Ct.\, Williamsville\, NY\, 14221\, United States
CATEGORIES:Regattas
ORGANIZER;CN="Buffalo Model Boat Club":MAILTO:buffalomodelboatclub@gmail.com
END:VEVENT
BEGIN:VEVENT
DTSTART;TZID=America/Halifax:20230821T180000
DTEND;TZID=America/Halifax:20230821T210000
DTSTAMP:20260426T023325
CREATED:20230319T191459Z
LAST-MODIFIED:20230529T015935Z
UID:899-1692640800-1692651600@buffalomodelboatclub.org
SUMMARY:Monday Nights - Sail Fleet
DESCRIPTION:No entry fee. Regular skippers must be club members. New sailors and spectators welcomed
URL:https://buffalomodelboatclub.org/event/monday-nights-sail-fleet-31/
LOCATION:Muir Lake\, Pinchot Ct.\, Williamsville\, NY\, 14221\, United States
CATEGORIES:Regattas
ORGANIZER;CN="Buffalo Model Boat Club":MAILTO:buffalomodelboatclub@gmail.com
END:VEVENT
BEGIN:VEVENT
DTSTART;TZID=America/Halifax:20230817T180000
DTEND;TZID=America/Halifax:20230817T210000
DTSTAMP:20260426T023325
CREATED:20230522T004809Z
LAST-MODIFIED:20230529T015851Z
UID:1139-1692295200-1692306000@buffalomodelboatclub.org
SUMMARY:Thursday Nights - Sail Fleet
DESCRIPTION:No entry fee. Regular skippers must be club members. New sailors and spectators welcomed.
URL:https://buffalomodelboatclub.org/event/thursday-nights-sail-fleet-33/
LOCATION:Muir Lake\, Pinchot Ct.\, Williamsville\, NY\, 14221\, United States
CATEGORIES:Regattas
ORGANIZER;CN="Buffalo Model Boat Club":MAILTO:buffalomodelboatclub@gmail.com
END:VEVENT
BEGIN:VEVENT
DTSTART;TZID=America/Halifax:20230816T180000
DTEND;TZID=America/Halifax:20230816T210000
DTSTAMP:20260426T023325
CREATED:20230321T163545Z
LAST-MODIFIED:20230321T163545Z
UID:950-1692208800-1692219600@buffalomodelboatclub.org
SUMMARY:Wednesday Nights - Scale Fleet
DESCRIPTION:Informal running\, testing of new or modified boats\, sharing of useful information and general fellowship. Spectators are always welcome.
URL:https://buffalomodelboatclub.org/event/wednesday-nights-scale-fleet-15/
LOCATION:Muir Lake\, Pinchot Ct.\, Williamsville\, NY\, 14221\, United States
CATEGORIES:Regattas
ORGANIZER;CN="Buffalo Model Boat Club":MAILTO:buffalomodelboatclub@gmail.com
END:VEVENT
BEGIN:VEVENT
DTSTART;TZID=America/Halifax:20230815T180000
DTEND;TZID=America/Halifax:20230815T210000
DTSTAMP:20260426T023325
CREATED:20230517T142646Z
LAST-MODIFIED:20230517T142646Z
UID:1107-1692122400-1692133200@buffalomodelboatclub.org
SUMMARY:Tuesday  Nights – Fast Electric Fleet
DESCRIPTION:On Tuesday evenings\, the Fast Electric fleet members gather at Muir Lake for informal running\, testing of new or modified boats\, sharing of useful information and general fellowship. The camaraderie and assistance of fellow modelers can help solve problems encountered in the model building process and operation of the model boats. New sailors and spectators welcomed.
URL:https://buffalomodelboatclub.org/event/tuesday-nights-fast-electric-fleet-26/
LOCATION:Muir Lake\, Pinchot Ct.\, Williamsville\, NY\, 14221\, United States
CATEGORIES:Regattas
ORGANIZER;CN="Buffalo Model Boat Club":MAILTO:buffalomodelboatclub@gmail.com
END:VEVENT
BEGIN:VEVENT
DTSTART;TZID=America/Halifax:20230814T180000
DTEND;TZID=America/Halifax:20230814T210000
DTSTAMP:20260426T023325
CREATED:20230319T191250Z
LAST-MODIFIED:20230529T015806Z
UID:897-1692036000-1692046800@buffalomodelboatclub.org
SUMMARY:Monday Nights - Sail Fleet
DESCRIPTION:No entry fee. Regular skippers must be club members. New sailors and spectators welcomed
URL:https://buffalomodelboatclub.org/event/monday-nights-sail-fleet-30/
LOCATION:Muir Lake\, Pinchot Ct.\, Williamsville\, NY\, 14221\, United States
CATEGORIES:Regattas
ORGANIZER;CN="Buffalo Model Boat Club":MAILTO:buffalomodelboatclub@gmail.com
END:VEVENT
BEGIN:VEVENT
DTSTART;TZID=America/Halifax:20230813T100000
DTEND;TZID=America/Halifax:20230813T120000
DTSTAMP:20260426T023325
CREATED:20230410T155350Z
LAST-MODIFIED:20230522T012938Z
UID:1025-1691920800-1691928000@buffalomodelboatclub.org
SUMMARY:Doug Hemingway Footy Divisional Regatta
DESCRIPTION:Skipper’s meeting at 10:00 AM on race day. Sailing ends at with skippers consent (usually lunchtime)\nRC POND RACING RULES\nRC Pond RRS 7-30-21[39274]
URL:https://buffalomodelboatclub.org/event/footy-divisional/
LOCATION:Muir Lake\, Pinchot Ct.\, Williamsville\, NY\, 14221\, United States
CATEGORIES:Regattas
ORGANIZER;CN="Buffalo Model Boat Club":MAILTO:buffalomodelboatclub@gmail.com
END:VEVENT
BEGIN:VEVENT
DTSTART;TZID=America/Halifax:20230810T180000
DTEND;TZID=America/Halifax:20230810T210000
DTSTAMP:20260426T023325
CREATED:20230522T004607Z
LAST-MODIFIED:20230529T015716Z
UID:1137-1691690400-1691701200@buffalomodelboatclub.org
SUMMARY:Thursday Nights - Sail Fleet
DESCRIPTION:No entry fee. Regular skippers must be club members. New sailors and spectators welcomed.
URL:https://buffalomodelboatclub.org/event/thursday-nights-sail-fleet-32/
LOCATION:Muir Lake\, Pinchot Ct.\, Williamsville\, NY\, 14221\, United States
CATEGORIES:Regattas
ORGANIZER;CN="Buffalo Model Boat Club":MAILTO:buffalomodelboatclub@gmail.com
END:VEVENT
BEGIN:VEVENT
DTSTART;TZID=America/Halifax:20230809T180000
DTEND;TZID=America/Halifax:20230809T210000
DTSTAMP:20260426T023325
CREATED:20230321T164119Z
LAST-MODIFIED:20230321T164119Z
UID:952-1691604000-1691614800@buffalomodelboatclub.org
SUMMARY:Wednesday Nights - Scale Fleet
DESCRIPTION:Informal running\, testing of new or modified boats\, sharing of useful information and general fellowship. Spectators are always welcome.
URL:https://buffalomodelboatclub.org/event/wednesday-nights-scale-fleet-16/
LOCATION:Muir Lake\, Pinchot Ct.\, Williamsville\, NY\, 14221\, United States
CATEGORIES:Regattas
ORGANIZER;CN="Buffalo Model Boat Club":MAILTO:buffalomodelboatclub@gmail.com
END:VEVENT
BEGIN:VEVENT
DTSTART;TZID=America/Halifax:20230807T180000
DTEND;TZID=America/Halifax:20230807T210000
DTSTAMP:20260426T023325
CREATED:20230319T191043Z
LAST-MODIFIED:20230529T015626Z
UID:895-1691431200-1691442000@buffalomodelboatclub.org
SUMMARY:Monday Nights - Sail Fleet
DESCRIPTION:No entry fee. Regular skippers must be club members. New sailors and spectators welcomed.
URL:https://buffalomodelboatclub.org/event/monday-nights-sail-fleet-29/
LOCATION:Muir Lake\, Pinchot Ct.\, Williamsville\, NY\, 14221\, United States
CATEGORIES:Regattas
ORGANIZER;CN="Buffalo Model Boat Club":MAILTO:buffalomodelboatclub@gmail.com
END:VEVENT
BEGIN:VEVENT
DTSTART;TZID=America/Halifax:20230803T180000
DTEND;TZID=America/Halifax:20230803T210000
DTSTAMP:20260426T023325
CREATED:20230522T004426Z
LAST-MODIFIED:20230529T015510Z
UID:1135-1691085600-1691096400@buffalomodelboatclub.org
SUMMARY:Thursday Nights - Sail Fleet
DESCRIPTION:No entry fee. Regular skippers must be club members. New sailors and spectators welcomed.
URL:https://buffalomodelboatclub.org/event/thursday-nights-sail-fleet-31/
LOCATION:Muir Lake\, Pinchot Ct.\, Williamsville\, NY\, 14221\, United States
CATEGORIES:Regattas
ORGANIZER;CN="Buffalo Model Boat Club":MAILTO:buffalomodelboatclub@gmail.com
END:VEVENT
END:VCALENDAR