BEGIN:VCALENDAR
VERSION:2.0
PRODID:-//Buffalo Model Boat Club - ECPv6.15.20//NONSGML v1.0//EN
CALSCALE:GREGORIAN
METHOD:PUBLISH
X-WR-CALNAME:Buffalo Model Boat Club
X-ORIGINAL-URL:https://buffalomodelboatclub.org
X-WR-CALDESC:Events for Buffalo Model Boat Club
REFRESH-INTERVAL;VALUE=DURATION:PT1H
X-Robots-Tag:noindex
X-PUBLISHED-TTL:PT1H
BEGIN:VTIMEZONE
TZID:America/Halifax
BEGIN:DAYLIGHT
TZOFFSETFROM:-0400
TZOFFSETTO:-0300
TZNAME:ADT
DTSTART:20240310T060000
END:DAYLIGHT
BEGIN:STANDARD
TZOFFSETFROM:-0300
TZOFFSETTO:-0400
TZNAME:AST
DTSTART:20241103T050000
END:STANDARD
BEGIN:DAYLIGHT
TZOFFSETFROM:-0400
TZOFFSETTO:-0300
TZNAME:ADT
DTSTART:20250309T060000
END:DAYLIGHT
BEGIN:STANDARD
TZOFFSETFROM:-0300
TZOFFSETTO:-0400
TZNAME:AST
DTSTART:20251102T050000
END:STANDARD
BEGIN:DAYLIGHT
TZOFFSETFROM:-0400
TZOFFSETTO:-0300
TZNAME:ADT
DTSTART:20260308T060000
END:DAYLIGHT
BEGIN:STANDARD
TZOFFSETFROM:-0300
TZOFFSETTO:-0400
TZNAME:AST
DTSTART:20261101T050000
END:STANDARD
END:VTIMEZONE
BEGIN:VTIMEZONE
TZID:UTC
BEGIN:STANDARD
TZOFFSETFROM:+0000
TZOFFSETTO:+0000
TZNAME:UTC
DTSTART:20240101T000000
END:STANDARD
END:VTIMEZONE
BEGIN:VEVENT
DTSTART;TZID=America/Halifax:20250906T090000
DTEND;TZID=America/Halifax:20250906T090000
DTSTAMP:20260426T040223
CREATED:20230424T013217Z
LAST-MODIFIED:20250414T010339Z
UID:1044-1757149200-1757149200@buffalomodelboatclub.org
SUMMARY:Niagara Frontier Antique and Classic Boat Show
DESCRIPTION:
URL:https://buffalomodelboatclub.org/event/niagara-frontier-antique-and-classic-boat-show/
LOCATION:Buffalo Launch Club\, 503 East River Rd.\, Grand Island\, NY\, United States
CATEGORIES:Regattas
END:VEVENT
BEGIN:VEVENT
DTSTART;TZID=UTC:20250906T090000
DTEND;TZID=UTC:20250906T170000
DTSTAMP:20260426T040223
CREATED:20250414T011909Z
LAST-MODIFIED:20250414T011909Z
UID:1667-1757149200-1757178000@buffalomodelboatclub.org
SUMMARY:Niagara Frontier Antique and Classic Boat Show
DESCRIPTION:
URL:https://buffalomodelboatclub.org/event/niagara-frontier-antique-and-classic-boat-show-2/
LOCATION:Buffalo Launch Club\, 503 East River Rd.\, Grand Island\, NY\, United States
CATEGORIES:Regattas
END:VEVENT
END:VCALENDAR