BEGIN:VCALENDAR
VERSION:2.0
PRODID:-//Buffalo Model Boat Club - ECPv6.15.20//NONSGML v1.0//EN
CALSCALE:GREGORIAN
METHOD:PUBLISH
X-WR-CALNAME:Buffalo Model Boat Club
X-ORIGINAL-URL:https://buffalomodelboatclub.org
X-WR-CALDESC:Events for Buffalo Model Boat Club
REFRESH-INTERVAL;VALUE=DURATION:PT1H
X-Robots-Tag:noindex
X-PUBLISHED-TTL:PT1H
BEGIN:VTIMEZONE
TZID:America/Halifax
BEGIN:DAYLIGHT
TZOFFSETFROM:-0400
TZOFFSETTO:-0300
TZNAME:ADT
DTSTART:20230312T060000
END:DAYLIGHT
BEGIN:STANDARD
TZOFFSETFROM:-0300
TZOFFSETTO:-0400
TZNAME:AST
DTSTART:20231105T050000
END:STANDARD
BEGIN:DAYLIGHT
TZOFFSETFROM:-0400
TZOFFSETTO:-0300
TZNAME:ADT
DTSTART:20240310T060000
END:DAYLIGHT
BEGIN:STANDARD
TZOFFSETFROM:-0300
TZOFFSETTO:-0400
TZNAME:AST
DTSTART:20241103T050000
END:STANDARD
BEGIN:DAYLIGHT
TZOFFSETFROM:-0400
TZOFFSETTO:-0300
TZNAME:ADT
DTSTART:20250309T060000
END:DAYLIGHT
BEGIN:STANDARD
TZOFFSETFROM:-0300
TZOFFSETTO:-0400
TZNAME:AST
DTSTART:20251102T050000
END:STANDARD
BEGIN:DAYLIGHT
TZOFFSETFROM:-0400
TZOFFSETTO:-0300
TZNAME:ADT
DTSTART:20260308T060000
END:DAYLIGHT
BEGIN:STANDARD
TZOFFSETFROM:-0300
TZOFFSETTO:-0400
TZNAME:AST
DTSTART:20261101T050000
END:STANDARD
END:VTIMEZONE
BEGIN:VEVENT
DTSTART;TZID=America/Halifax:20250703T180000
DTEND;TZID=America/Halifax:20250703T210000
DTSTAMP:20260426T035746
CREATED:20240405T184339Z
LAST-MODIFIED:20250605T140648Z
UID:1415-1751565600-1751576400@buffalomodelboatclub.org
SUMMARY:Thursday Nights - Soling\,  1 Meter Fleet Racing
DESCRIPTION:No entry fee. Spectators and guests are welcome. Participating skippers must be BMBC members. Other sailboats are also welcome but will not be scored
URL:https://buffalomodelboatclub.org/event/thursday-nights-soling-1-meter-fleet-racing-7/
LOCATION:Muir Lake\, Pinchot Ct.\, Williamsville\, NY\, 14221\, United States
CATEGORIES:Regattas
ORGANIZER;CN="Buffalo Model Boat Club":MAILTO:buffalomodelboatclub@gmail.com
END:VEVENT
BEGIN:VEVENT
DTSTART;TZID=America/Halifax:20250702T180000
DTEND;TZID=America/Halifax:20250702T210000
DTSTAMP:20260426T035746
CREATED:20240603T012445Z
LAST-MODIFIED:20250605T140236Z
UID:1471-1751479200-1751490000@buffalomodelboatclub.org
SUMMARY:Wednesday Nights – Scale Fleet “Tune Up”
DESCRIPTION:
URL:https://buffalomodelboatclub.org/event/wednesday-nights-scale-fleet-tune-up-5/
LOCATION:Muir Lake\, Pinchot Ct.\, Williamsville\, NY\, 14221\, United States
CATEGORIES:Regattas
ORGANIZER;CN="Buffalo Model Boat Club":MAILTO:buffalomodelboatclub@gmail.com
END:VEVENT
BEGIN:VEVENT
DTSTART;TZID=America/Halifax:20250701T173000
DTEND;TZID=America/Halifax:20250701T203000
DTSTAMP:20260426T035746
CREATED:20230517T141630Z
LAST-MODIFIED:20250605T135647Z
UID:1096-1751391000-1751401800@buffalomodelboatclub.org
SUMMARY:Tuesday  Nights – Fast Electric Fleet
DESCRIPTION:On Tuesday evenings\, the Fast Electric fleet members gather at Muir Lake for informal running\, testing of new or modified boats\, sharing of useful information and general fellowship. The camaraderie and assistance of fellow modelers can help solve problems encountered in the model building process and operation of the model boats. New sailors and spectators welcomed.
URL:https://buffalomodelboatclub.org/event/tuesday-nights-fast-electric-fleet-21/
LOCATION:Muir Lake\, Pinchot Ct.\, Williamsville\, NY\, 14221\, United States
CATEGORIES:Regattas
ORGANIZER;CN="Buffalo Model Boat Club":MAILTO:buffalomodelboatclub@gmail.com
END:VEVENT
BEGIN:VEVENT
DTSTART;TZID=America/Halifax:20250630T180000
DTEND;TZID=America/Halifax:20250630T210000
DTSTAMP:20260426T035746
CREATED:20240402T194819Z
LAST-MODIFIED:20250605T135957Z
UID:1341-1751306400-1751317200@buffalomodelboatclub.org
SUMMARY:Monday Nights - DF 95 Sail Fleet Racing
DESCRIPTION:No entry fee. Spectators and guests are welcome. Participating skippers must be BMBC members. Other sailboats are also welcome but will not be scored.
URL:https://buffalomodelboatclub.org/event/monday-nights-df-95-sail-fleet-racing/
LOCATION:Muir Lake\, Pinchot Ct.\, Williamsville\, NY\, 14221\, United States
CATEGORIES:Regattas
ORGANIZER;CN="Buffalo Model Boat Club":MAILTO:buffalomodelboatclub@gmail.com
END:VEVENT
BEGIN:VEVENT
DTSTART;TZID=America/Halifax:20250626T180000
DTEND;TZID=America/Halifax:20250626T210000
DTSTAMP:20260426T035746
CREATED:20240402T200333Z
LAST-MODIFIED:20250603T022919Z
UID:1346-1750960800-1750971600@buffalomodelboatclub.org
SUMMARY:Thursday Nights - Soling\,  1 Meter Fleet Racing
DESCRIPTION:No entry fee. Spectators and guests are welcome. Participating skippers must be BMBC members. Other sailboats are also welcome but will not be scored.
URL:https://buffalomodelboatclub.org/event/thursday-nights-soling-1-meter-fleet-racing/
LOCATION:Muir Lake\, Pinchot Ct.\, Williamsville\, NY\, 14221\, United States
CATEGORIES:Regattas
ORGANIZER;CN="Buffalo Model Boat Club":MAILTO:buffalomodelboatclub@gmail.com
END:VEVENT
BEGIN:VEVENT
DTSTART;TZID=America/Halifax:20250625T180000
DTEND;TZID=America/Halifax:20250625T210000
DTSTAMP:20260426T035746
CREATED:20240603T012332Z
LAST-MODIFIED:20250603T023909Z
UID:1469-1750874400-1750885200@buffalomodelboatclub.org
SUMMARY:Wednesday Nights – Scale Fleet “Tune Up”
DESCRIPTION:
URL:https://buffalomodelboatclub.org/event/wednesday-nights-scale-fleet-tune-up-4/
LOCATION:Muir Lake\, Pinchot Ct.\, Williamsville\, NY\, 14221\, United States
CATEGORIES:Regattas
ORGANIZER;CN="Buffalo Model Boat Club":MAILTO:buffalomodelboatclub@gmail.com
END:VEVENT
BEGIN:VEVENT
DTSTART;TZID=America/Halifax:20250624T173000
DTEND;TZID=America/Halifax:20250624T203000
DTSTAMP:20260426T035746
CREATED:20230517T141237Z
LAST-MODIFIED:20250603T023706Z
UID:1094-1750786200-1750797000@buffalomodelboatclub.org
SUMMARY:Tuesday  Nights – Fast Electric Fleet
DESCRIPTION:On Tuesday evenings\, the Fast Electric fleet members gather at Muir Lake for informal running\, testing of new or modified boats\, sharing of useful information and general fellowship. The camaraderie and assistance of fellow modelers can help solve problems encountered in the model building process and operation of the model boats. New sailors and spectators welcomed.
URL:https://buffalomodelboatclub.org/event/tuesday-nights-fast-electric-fleet-20/
LOCATION:Muir Lake\, Pinchot Ct.\, Williamsville\, NY\, 14221\, United States
CATEGORIES:Regattas
ORGANIZER;CN="Buffalo Model Boat Club":MAILTO:buffalomodelboatclub@gmail.com
END:VEVENT
BEGIN:VEVENT
DTSTART;TZID=America/Halifax:20250623T180000
DTEND;TZID=America/Halifax:20250623T210000
DTSTAMP:20260426T035746
CREATED:20240405T155039Z
LAST-MODIFIED:20250603T023517Z
UID:1380-1750701600-1750712400@buffalomodelboatclub.org
SUMMARY:Monday Nights - DF 95 Sail Fleet Racing
DESCRIPTION:No entry fee. Spectators and guests are welcome. Participating skippers must be BMBC members. Other sailboats are also welcome but will not be scored
URL:https://buffalomodelboatclub.org/event/monday-nights-df-95-sail-fleet-racing-5/
LOCATION:Muir Lake\, Pinchot Ct.\, Williamsville\, NY\, 14221\, United States
CATEGORIES:Regattas
ORGANIZER;CN="Buffalo Model Boat Club":MAILTO:buffalomodelboatclub@gmail.com
END:VEVENT
BEGIN:VEVENT
DTSTART;TZID=America/Halifax:20250619T180000
DTEND;TZID=America/Halifax:20250619T210000
DTSTAMP:20260426T035746
CREATED:20240405T184125Z
LAST-MODIFIED:20250603T022519Z
UID:1413-1750356000-1750366800@buffalomodelboatclub.org
SUMMARY:Thursday Nights - Soling\,  1 Meter Fleet Racing
DESCRIPTION:No entry fee. Spectators and guests are welcome. Participating skippers must be BMBC members. Other sailboats are also welcome but will not be scored
URL:https://buffalomodelboatclub.org/event/thursday-nights-soling-1-meter-fleet-racing-6/
LOCATION:Muir Lake\, Pinchot Ct.\, Williamsville\, NY\, 14221\, United States
CATEGORIES:Regattas
ORGANIZER;CN="Buffalo Model Boat Club":MAILTO:buffalomodelboatclub@gmail.com
END:VEVENT
BEGIN:VEVENT
DTSTART;TZID=America/Halifax:20250618T180000
DTEND;TZID=America/Halifax:20250618T210000
DTSTAMP:20260426T035746
CREATED:20240603T012215Z
LAST-MODIFIED:20250603T022729Z
UID:1467-1750269600-1750280400@buffalomodelboatclub.org
SUMMARY:Wednesday Nights – Scale Fleet “Tune Up”
DESCRIPTION:
URL:https://buffalomodelboatclub.org/event/wednesday-nights-scale-fleet-tune-up-3/
LOCATION:Muir Lake\, Pinchot Ct.\, Williamsville\, NY\, 14221\, United States
CATEGORIES:Regattas
ORGANIZER;CN="Buffalo Model Boat Club":MAILTO:buffalomodelboatclub@gmail.com
END:VEVENT
BEGIN:VEVENT
DTSTART;TZID=America/Halifax:20250617T173000
DTEND;TZID=America/Halifax:20250617T203000
DTSTAMP:20260426T035746
CREATED:20230517T141020Z
LAST-MODIFIED:20250603T021224Z
UID:1091-1750181400-1750192200@buffalomodelboatclub.org
SUMMARY:Tuesday  Nights – Fast Electric Fleet
DESCRIPTION:On Tuesday evenings\, the Fast Electric fleet members gather at Muir Lake for informal running\, testing of new or modified boats\, sharing of useful information and general fellowship. The camaraderie and assistance of fellow modelers can help solve problems encountered in the model building process and operation of the model boats. New sailors and spectators welcomed.
URL:https://buffalomodelboatclub.org/event/tuesday-nights-fast-electric-fleet-19/
LOCATION:Muir Lake\, Pinchot Ct.\, Williamsville\, NY\, 14221\, United States
CATEGORIES:Regattas
ORGANIZER;CN="Buffalo Model Boat Club":MAILTO:buffalomodelboatclub@gmail.com
END:VEVENT
BEGIN:VEVENT
DTSTART;TZID=America/Halifax:20250616T180000
DTEND;TZID=America/Halifax:20250616T210000
DTSTAMP:20260426T035746
CREATED:20240405T154816Z
LAST-MODIFIED:20250603T020943Z
UID:1377-1750096800-1750107600@buffalomodelboatclub.org
SUMMARY:Monday Nights - DF 95 Sail Fleet Racing
DESCRIPTION:No entry fee. Spectators and guests are welcome. Participating skippers must be BMBC members. Other sailboats are also welcome but will not be scored
URL:https://buffalomodelboatclub.org/event/monday-nights-df-95-sail-fleet-racing-4/
LOCATION:Muir Lake\, Pinchot Ct.\, Williamsville\, NY\, 14221\, United States
CATEGORIES:Regattas
ORGANIZER;CN="Buffalo Model Boat Club":MAILTO:buffalomodelboatclub@gmail.com
END:VEVENT
BEGIN:VEVENT
DTSTART;TZID=America/Halifax:20250616T180000
DTEND;TZID=America/Halifax:20250616T210000
DTSTAMP:20260426T035746
CREATED:20240402T152122Z
LAST-MODIFIED:20250603T023259Z
UID:1330-1750096800-1750107600@buffalomodelboatclub.org
SUMMARY:Monday Nights - DF 95 Sail Fleet Racing
DESCRIPTION:No entry fee. Spectators and guests are welcome. Participating skippers must be BMBC members. Other sailboats are also welcome but will not be scored.
URL:https://buffalomodelboatclub.org/event/df-95-racing/
LOCATION:Muir Lake\, Pinchot Ct.\, Williamsville\, NY\, 14221\, United States
CATEGORIES:Regattas
ORGANIZER;CN="Buffalo Model Boat Club":MAILTO:buffalomodelboatclub@gmail.com
END:VEVENT
BEGIN:VEVENT
DTSTART;TZID=America/Halifax:20250612T180000
DTEND;TZID=America/Halifax:20250612T210000
DTSTAMP:20260426T035746
CREATED:20240405T183943Z
LAST-MODIFIED:20250603T020719Z
UID:1411-1749751200-1749762000@buffalomodelboatclub.org
SUMMARY:Thursday Nights - Soling\,  1 Meter Fleet Racing
DESCRIPTION:No entry fee. Spectators and guests are welcome. Participating skippers must be BMBC members. Other sailboats are also welcome but will not be scored
URL:https://buffalomodelboatclub.org/event/thursday-nights-soling-1-meter-fleet-racing-5/
LOCATION:Muir Lake\, Pinchot Ct.\, Williamsville\, NY\, 14221\, United States
CATEGORIES:Regattas
ORGANIZER;CN="Buffalo Model Boat Club":MAILTO:buffalomodelboatclub@gmail.com
END:VEVENT
BEGIN:VEVENT
DTSTART;TZID=America/Halifax:20250611T180000
DTEND;TZID=America/Halifax:20250611T210000
DTSTAMP:20260426T035746
CREATED:20240603T012111Z
LAST-MODIFIED:20250603T013006Z
UID:1465-1749664800-1749675600@buffalomodelboatclub.org
SUMMARY:Wednesday Nights – Scale Fleet “Tune Up”
DESCRIPTION:
URL:https://buffalomodelboatclub.org/event/wednesday-nights-scale-fleet-tune-up-2/
LOCATION:Muir Lake\, Pinchot Ct.\, Williamsville\, NY\, 14221\, United States
CATEGORIES:Regattas
ORGANIZER;CN="Buffalo Model Boat Club":MAILTO:buffalomodelboatclub@gmail.com
END:VEVENT
BEGIN:VEVENT
DTSTART;TZID=America/Halifax:20250610T173000
DTEND;TZID=America/Halifax:20250610T203000
DTSTAMP:20260426T035746
CREATED:20230517T140828Z
LAST-MODIFIED:20250603T012813Z
UID:1088-1749576600-1749587400@buffalomodelboatclub.org
SUMMARY:Tuesday  Nights – Fast Electric Fleet
DESCRIPTION:On Tuesday evenings\, the Fast Electric fleet members gather at Muir Lake for informal running\, testing of new or modified boats\, sharing of useful information and general fellowship. The camaraderie and assistance of fellow modelers can help solve problems encountered in the model building process and operation of the model boats. New sailors and spectators welcomed.
URL:https://buffalomodelboatclub.org/event/tuesday-nights-fast-electric-fleet-18/
LOCATION:Muir Lake\, Pinchot Ct.\, Williamsville\, NY\, 14221\, United States
CATEGORIES:Regattas
ORGANIZER;CN="Buffalo Model Boat Club":MAILTO:buffalomodelboatclub@gmail.com
END:VEVENT
BEGIN:VEVENT
DTSTART;TZID=America/Halifax:20250609T180000
DTEND;TZID=America/Halifax:20250609T210000
DTSTAMP:20260426T035746
CREATED:20240405T154124Z
LAST-MODIFIED:20250603T012629Z
UID:1374-1749492000-1749502800@buffalomodelboatclub.org
SUMMARY:Monday Nights - DF 95 Sail Fleet Racing
DESCRIPTION:No entry fee. Spectators and guests are welcome. Participating skippers must be BMBC members. Other sailboats are also welcome but will not be scored
URL:https://buffalomodelboatclub.org/event/monday-nights-df-95-sail-fleet-racing-3/
LOCATION:Muir Lake\, Pinchot Ct.\, Williamsville\, NY\, 14221\, United States
CATEGORIES:Regattas
ORGANIZER;CN="Buffalo Model Boat Club":MAILTO:buffalomodelboatclub@gmail.com
END:VEVENT
BEGIN:VEVENT
DTSTART;TZID=America/Halifax:20250608T100000
DTEND;TZID=America/Halifax:20250608T120000
DTSTAMP:20260426T035746
CREATED:20250304T163056Z
LAST-MODIFIED:20250304T170330Z
UID:1611-1749376800-1749384000@buffalomodelboatclub.org
SUMMARY:Footy Fleet Races
DESCRIPTION:Racing Rules          Racing Rules -Fairmont Pond \nTeam Races            Team Event \n 
URL:https://buffalomodelboatclub.org/event/footy-fleet-races/
LOCATION:Fairmount Park\, 6812 Nash Road\, \, NY\, Wheatfield\, NY\, 14228\, United States
CATEGORIES:Regattas
ORGANIZER;CN="Buffalo Model Boat Club":MAILTO:buffalomodelboatclub@gmail.com
END:VEVENT
BEGIN:VEVENT
DTSTART;TZID=America/Halifax:20250605T180000
DTEND;TZID=America/Halifax:20250605T210000
DTSTAMP:20260426T035746
CREATED:20240405T183708Z
LAST-MODIFIED:20250601T194947Z
UID:1409-1749146400-1749157200@buffalomodelboatclub.org
SUMMARY:Thursday Nights - Soling\,  1 Meter Fleet Racing
DESCRIPTION:No entry fee. Spectators and guests are welcome. Participating skippers must be BMBC members. Other sailboats are also welcome but will not be scored
URL:https://buffalomodelboatclub.org/event/thursday-nights-soling-1-meter-fleet-racing-4/
LOCATION:Muir Lake\, Pinchot Ct.\, Williamsville\, NY\, 14221\, United States
CATEGORIES:Regattas
ORGANIZER;CN="Buffalo Model Boat Club":MAILTO:buffalomodelboatclub@gmail.com
END:VEVENT
BEGIN:VEVENT
DTSTART;TZID=America/Halifax:20250604T180000
DTEND;TZID=America/Halifax:20250604T210000
DTSTAMP:20260426T035746
CREATED:20240603T011818Z
LAST-MODIFIED:20250601T194317Z
UID:1463-1749060000-1749070800@buffalomodelboatclub.org
SUMMARY:Wednesday Nights - Scale Fleet "Tune Up"
DESCRIPTION:
URL:https://buffalomodelboatclub.org/event/wednesday-nights-scale-fleet-tune-up/
LOCATION:Muir Lake\, Pinchot Ct.\, Williamsville\, NY\, 14221\, United States
CATEGORIES:Regattas
ORGANIZER;CN="Buffalo Model Boat Club":MAILTO:buffalomodelboatclub@gmail.com
END:VEVENT
BEGIN:VEVENT
DTSTART;TZID=America/Halifax:20250603T173000
DTEND;TZID=America/Halifax:20250603T203000
DTSTAMP:20260426T035746
CREATED:20230517T140218Z
LAST-MODIFIED:20250601T194024Z
UID:1082-1748971800-1748982600@buffalomodelboatclub.org
SUMMARY:Tuesday  Nights – Fast Electric Fleet
DESCRIPTION:On Tuesday evenings\, the Fast Electric fleet members gather at Muir Lake for informal running\, testing of new or modified boats\, sharing of useful information and general fellowship. The camaraderie and assistance of fellow modelers can help solve problems encountered in the model building process and operation of the model boats. New sailors and spectators welcomed.
URL:https://buffalomodelboatclub.org/event/tuesday-nights-fast-electric-fleet-16/
LOCATION:Muir Lake\, Pinchot Ct.\, Williamsville\, NY\, 14221\, United States
CATEGORIES:Regattas
ORGANIZER;CN="Buffalo Model Boat Club":MAILTO:buffalomodelboatclub@gmail.com
END:VEVENT
BEGIN:VEVENT
DTSTART;TZID=America/Halifax:20250602T180000
DTEND;TZID=America/Halifax:20250602T210000
DTSTAMP:20260426T035746
CREATED:20240405T153925Z
LAST-MODIFIED:20250601T193532Z
UID:1371-1748887200-1748898000@buffalomodelboatclub.org
SUMMARY:Monday Nights - DF 95 Sail Fleet Racing
DESCRIPTION:No entry fee. Spectators and guests are welcome. Participating skippers must be BMBC members. Other sailboats are also welcome but will not be scored
URL:https://buffalomodelboatclub.org/event/monday-nights-df-95-sail-fleet-racing-2/
LOCATION:Muir Lake\, Pinchot Ct.\, Williamsville\, NY\, 14221\, United States
CATEGORIES:Regattas
ORGANIZER;CN="Buffalo Model Boat Club":MAILTO:buffalomodelboatclub@gmail.com
END:VEVENT
BEGIN:VEVENT
DTSTART;TZID=America/Halifax:20250519T180000
DTEND;TZID=America/Halifax:20250519T210000
DTSTAMP:20260426T035746
CREATED:20230319T171010Z
LAST-MODIFIED:20250603T022116Z
UID:864-1747677600-1747688400@buffalomodelboatclub.org
SUMMARY:Monday Nights - DF 95 Sail Fleet Racing
DESCRIPTION:No entry fee. Spectators and guests are welcome. Participating skippers must be BMBC members. Other sailboats are also welcome but will not be scored.
URL:https://buffalomodelboatclub.org/event/monday-nights-sail-fleet-17/
LOCATION:Muir Lake\, Pinchot Ct.\, Williamsville\, NY\, 14221\, United States
CATEGORIES:Regattas
ORGANIZER;CN="Buffalo Model Boat Club":MAILTO:buffalomodelboatclub@gmail.com
END:VEVENT
BEGIN:VEVENT
DTSTART;TZID=America/Halifax:20250518T100000
DTEND;TZID=America/Halifax:20250518T120000
DTSTAMP:20260426T035746
CREATED:20250304T155732Z
LAST-MODIFIED:20250306T023915Z
UID:1609-1747562400-1747569600@buffalomodelboatclub.org
SUMMARY:Santa Barbara & Marblehead Fleet Races
DESCRIPTION:Racing Rules – Muir Lake
URL:https://buffalomodelboatclub.org/event/santa-barbara-marblehead-fleet-races/
LOCATION:Muir Lake\, Pinchot Ct.\, Williamsville\, NY\, 14221\, United States
CATEGORIES:Regattas
ORGANIZER;CN="Buffalo Model Boat Club":MAILTO:buffalomodelboatclub@gmail.com
END:VEVENT
BEGIN:VEVENT
DTSTART;TZID=America/Halifax:20250511T100000
DTEND;TZID=America/Halifax:20250511T120000
DTSTAMP:20260426T035746
CREATED:20250304T155406Z
LAST-MODIFIED:20250306T023820Z
UID:1606-1746957600-1746964800@buffalomodelboatclub.org
SUMMARY:Fleet Racing - All One Meter Boats
DESCRIPTION:Racing Rules – Muir Lake
URL:https://buffalomodelboatclub.org/event/fleet-racing-all-one-meter-boats/
LOCATION:Muir Lake\, Pinchot Ct.\, Williamsville\, NY\, 14221\, United States
CATEGORIES:Regattas
ORGANIZER;CN="Buffalo Model Boat Club":MAILTO:buffalomodelboatclub@gmail.com
END:VEVENT
BEGIN:VEVENT
DTSTART;TZID=America/Halifax:20250503T183000
DTEND;TZID=America/Halifax:20250503T210000
DTSTAMP:20260426T035746
CREATED:20221218T024950Z
LAST-MODIFIED:20250101T194847Z
UID:731-1746297000-1746306000@buffalomodelboatclub.org
SUMMARY:BMBC Monthly Meeting
DESCRIPTION:Alternate meeting location and time in case of inclement weather
URL:https://buffalomodelboatclub.org/event/bmbc-monthy-meeting/
LOCATION:Muir Lake\, Pinchot Ct.\, Williamsville\, NY\, 14221\, United States
CATEGORIES:Meeting
ORGANIZER;CN="Buffalo Model Boat Club":MAILTO:buffalomodelboatclub@gmail.com
END:VEVENT
BEGIN:VEVENT
DTSTART;TZID=America/Halifax:20250427T100000
DTEND;TZID=America/Halifax:20250427T120000
DTSTAMP:20260426T035746
CREATED:20250304T154828Z
LAST-MODIFIED:20250306T023718Z
UID:1604-1745748000-1745755200@buffalomodelboatclub.org
SUMMARY:DF 95 / 65 Fleet Races
DESCRIPTION:Racing Rules – Muir Lake
URL:https://buffalomodelboatclub.org/event/df-95-65-fleet-race/
LOCATION:Muir Lake\, Pinchot Ct.\, Williamsville\, NY\, 14221\, United States
CATEGORIES:Regattas
ORGANIZER;CN="Buffalo Model Boat Club":MAILTO:buffalomodelboatclub@gmail.com
END:VEVENT
BEGIN:VEVENT
DTSTART;TZID=America/Halifax:20250405T190000
DTEND;TZID=America/Halifax:20250405T210000
DTSTAMP:20260426T035746
CREATED:20221218T161137Z
LAST-MODIFIED:20250101T190253Z
UID:753-1743879600-1743886800@buffalomodelboatclub.org
SUMMARY:BMBC Monthly Meeting
DESCRIPTION:
URL:https://buffalomodelboatclub.org/event/bmbc-monthly-meeting-15/
LOCATION:Prince of Peace Church Hall\, 2311 George Urban Blvd.\, Cheektowaga\, NY\, United States
CATEGORIES:Meeting
ORGANIZER;CN="Buffalo Model Boat Club":MAILTO:buffalomodelboatclub@gmail.com
END:VEVENT
BEGIN:VEVENT
DTSTART;TZID=America/Halifax:20250301T183000
DTEND;TZID=America/Halifax:20250301T210000
DTSTAMP:20260426T035746
CREATED:20221218T160724Z
LAST-MODIFIED:20250101T190145Z
UID:749-1740853800-1740862800@buffalomodelboatclub.org
SUMMARY:BMBC Monthly Meeting
DESCRIPTION:Alternate meeting location and time in case of inclement weather
URL:https://buffalomodelboatclub.org/event/bmbc-monthly-meeting-13/
LOCATION:Muir Lake\, Pinchot Ct.\, Williamsville\, NY\, 14221\, United States
CATEGORIES:Meeting
ORGANIZER;CN="Buffalo Model Boat Club":MAILTO:buffalomodelboatclub@gmail.com
END:VEVENT
BEGIN:VEVENT
DTSTART;TZID=America/Halifax:20240929T100000
DTEND;TZID=America/Halifax:20240929T120000
DTSTAMP:20260426T035746
CREATED:20240403T175049Z
LAST-MODIFIED:20240403T175049Z
UID:1367-1727604000-1727611200@buffalomodelboatclub.org
SUMMARY:Santa Barbara Regatta
DESCRIPTION:Skippers meeting 10:00 am. No entry fee. Spectators and guests are welcome. Participating skippers must be BMBC members. Other sailboats are also welcome but will not be scored
URL:https://buffalomodelboatclub.org/event/santa-barbara-regatta/
LOCATION:Muir Lake\, Pinchot Ct.\, Williamsville\, NY\, 14221\, United States
CATEGORIES:Regattas
ORGANIZER;CN="Buffalo Model Boat Club":MAILTO:buffalomodelboatclub@gmail.com
END:VEVENT
END:VCALENDAR