BEGIN:VCALENDAR
VERSION:2.0
PRODID:-//Buffalo Model Boat Club - ECPv6.15.20//NONSGML v1.0//EN
CALSCALE:GREGORIAN
METHOD:PUBLISH
X-ORIGINAL-URL:https://buffalomodelboatclub.org
X-WR-CALDESC:Events for Buffalo Model Boat Club
REFRESH-INTERVAL;VALUE=DURATION:PT1H
X-Robots-Tag:noindex
X-PUBLISHED-TTL:PT1H
BEGIN:VTIMEZONE
TZID:America/Halifax
BEGIN:DAYLIGHT
TZOFFSETFROM:-0400
TZOFFSETTO:-0300
TZNAME:ADT
DTSTART:20250309T060000
END:DAYLIGHT
BEGIN:STANDARD
TZOFFSETFROM:-0300
TZOFFSETTO:-0400
TZNAME:AST
DTSTART:20251102T050000
END:STANDARD
BEGIN:DAYLIGHT
TZOFFSETFROM:-0400
TZOFFSETTO:-0300
TZNAME:ADT
DTSTART:20260308T060000
END:DAYLIGHT
BEGIN:STANDARD
TZOFFSETFROM:-0300
TZOFFSETTO:-0400
TZNAME:AST
DTSTART:20261101T050000
END:STANDARD
BEGIN:DAYLIGHT
TZOFFSETFROM:-0400
TZOFFSETTO:-0300
TZNAME:ADT
DTSTART:20270314T060000
END:DAYLIGHT
BEGIN:STANDARD
TZOFFSETFROM:-0300
TZOFFSETTO:-0400
TZNAME:AST
DTSTART:20271107T050000
END:STANDARD
END:VTIMEZONE
BEGIN:VEVENT
DTSTART;TZID=America/Halifax:20260728T173000
DTEND;TZID=America/Halifax:20260728T200000
DTSTAMP:20260426T022918
CREATED:20260419T155155Z
LAST-MODIFIED:20260419T155155Z
UID:1818-1785259800-1785268800@buffalomodelboatclub.org
SUMMARY:Blackjack 24 Races
DESCRIPTION:Warmup 5:30 pm   Races 6:00 pm
URL:https://buffalomodelboatclub.org/event/blackjack-24-races-4/
LOCATION:Muir Lake\, Pinchot Ct.\, Williamsville\, NY\, 14221\, United States
CATEGORIES:Regattas
ORGANIZER;CN="Buffalo Model Boat Club":MAILTO:buffalomodelboatclub@gmail.com
END:VEVENT
END:VCALENDAR