BEGIN:VCALENDAR
VERSION:2.0
PRODID:-//Buffalo Model Boat Club - ECPv6.15.20//NONSGML v1.0//EN
CALSCALE:GREGORIAN
METHOD:PUBLISH
X-WR-CALNAME:Buffalo Model Boat Club
X-ORIGINAL-URL:https://buffalomodelboatclub.org
X-WR-CALDESC:Events for Buffalo Model Boat Club
REFRESH-INTERVAL;VALUE=DURATION:PT1H
X-Robots-Tag:noindex
X-PUBLISHED-TTL:PT1H
BEGIN:VTIMEZONE
TZID:America/Halifax
BEGIN:DAYLIGHT
TZOFFSETFROM:-0400
TZOFFSETTO:-0300
TZNAME:ADT
DTSTART:20250309T060000
END:DAYLIGHT
BEGIN:STANDARD
TZOFFSETFROM:-0300
TZOFFSETTO:-0400
TZNAME:AST
DTSTART:20251102T050000
END:STANDARD
BEGIN:DAYLIGHT
TZOFFSETFROM:-0400
TZOFFSETTO:-0300
TZNAME:ADT
DTSTART:20260308T060000
END:DAYLIGHT
BEGIN:STANDARD
TZOFFSETFROM:-0300
TZOFFSETTO:-0400
TZNAME:AST
DTSTART:20261101T050000
END:STANDARD
BEGIN:DAYLIGHT
TZOFFSETFROM:-0400
TZOFFSETTO:-0300
TZNAME:ADT
DTSTART:20270314T060000
END:DAYLIGHT
BEGIN:STANDARD
TZOFFSETFROM:-0300
TZOFFSETTO:-0400
TZNAME:AST
DTSTART:20271107T050000
END:STANDARD
END:VTIMEZONE
BEGIN:VEVENT
DTSTART;TZID=America/Halifax:20260322T090000
DTEND;TZID=America/Halifax:20260322T140000
DTSTAMP:20260425T203330
CREATED:20260308T151707Z
LAST-MODIFIED:20260308T152508Z
UID:1794-1774170000-1774188000@buffalomodelboatclub.org
SUMMARY:"Cabin Fever" RC Model Boat Event
DESCRIPTION:9 am to 12 noon:  Scale Models\,  Balloon Busters\, Submarines \n12 noon to 2 pm:  RC Sailboats
URL:https://buffalomodelboatclub.org/event/cabin-fever-rc-model-boat-event/
LOCATION:Maryvale High School Pool\, 1050 Maryvale Drive\, Cheektowaga\, NY\, United States
CATEGORIES:Fun Run
ORGANIZER;CN="Kurt Hansen":MAILTO:khansen72@verizon.net
END:VEVENT
END:VCALENDAR